- using R Under development (unstable) (2018-04-20 r74620)
- using platform: x86_64-pc-linux-gnu (64-bit)
- using session charset: UTF-8
- using option ‘--no-stop-on-test-error’
- checking for file ‘RMRAINGEN/DESCRIPTION’ ... OK
- checking extension type ... Package
- this is package ‘RMRAINGEN’ version ‘1.0’
- checking package namespace information ... OK
- checking package dependencies ... OK
- checking if this is a source package ... OK
- checking if there is a namespace ... OK
- checking for executable files ... OK
- checking for hidden files and directories ... OK
- checking for portable file names ... OK
- checking for sufficient/correct file permissions ... OK
- checking whether package ‘RMRAINGEN’ can be installed ... OK
- checking installed package size ... OK
- checking package directory ... OK
- checking DESCRIPTION meta-information ... OK
- checking top-level files ... OK
- checking for left-over files ... OK
- checking index information ... OK
- checking package subdirectories ... OK
- checking R files for non-ASCII characters ... OK
- checking R files for syntax errors ... OK
- checking whether the package can be loaded ... OK
- checking whether the package can be loaded with stated dependencies ... OK
- checking whether the package can be unloaded cleanly ... OK
- checking whether the namespace can be loaded with stated dependencies ... OK
- checking whether the namespace can be unloaded cleanly ... OK
- checking loading without being on the library search path ... OK
- checking use of S3 registration ... OK
- checking dependencies in R code ... OK
- checking S3 generic/method consistency ... OK
- checking replacement functions ... OK
- checking foreign function calls ... OK
- checking R code for possible problems ... [15s/19s] NOTE
CoeffYWeq: no visible global function definition for ‘index’
fitdistrForPrecipitation: no visible global function definition for
‘fitdistr’
generate.CCGammaObject: no visible binding for global variable ‘rnorm’
generate.CCGammaObject: no visible global function definition for
‘pnorm’
generate.YuleWalkerCoefficientBlockmatrices: no visible binding for
global variable ‘rnorm’
generate.YuleWalkerCoefficientBlockmatricesPerEachMonth: no visible
binding for global variable ‘rnorm’
generatePrecipitationAmount: no visible global function definition for
‘str’
omega_inv: no visible global function definition for ‘uniroot’
qqfit: no visible binding for global variable ‘qexp’
qqfit: no visible global function definition for ‘ecdf’
Undefined global functions or variables:
ecdf fitdistr index pnorm qexp rnorm str uniroot
Consider adding
importFrom("stats", "ecdf", "pnorm", "qexp", "rnorm", "uniroot")
importFrom("utils", "str")
to your NAMESPACE file.
- checking Rd files ... OK
- checking Rd metadata ... OK
- checking Rd line widths ... OK
- checking Rd cross-references ... OK
- checking for missing documentation entries ... OK
- checking for code/documentation mismatches ... OK
- checking Rd \usage sections ... OK
- checking Rd contents ... OK
- checking for unstated dependencies in examples ... OK
- checking examples ... [12s/13s] OK
- checking PDF version of manual ... OK
- DONE
Status: 1 NOTE