- using R Under development (unstable) (2018-04-20 r74620)
- using platform: x86_64-pc-linux-gnu (64-bit)
- using session charset: UTF-8
- using option ‘--no-stop-on-test-error’
- checking for file ‘IUPS/DESCRIPTION’ ... OK
- checking extension type ... Package
- this is package ‘IUPS’ version ‘1.0’
- checking package namespace information ... OK
- checking package dependencies ... OK
- checking if this is a source package ... OK
- checking if there is a namespace ... OK
- checking for executable files ... OK
- checking for hidden files and directories ... OK
- checking for portable file names ... OK
- checking for sufficient/correct file permissions ... OK
- checking whether package ‘IUPS’ can be installed ... OK
- checking installed package size ... OK
- checking package directory ... OK
- checking DESCRIPTION meta-information ... OK
- checking top-level files ... OK
- checking for left-over files ... OK
- checking index information ... OK
- checking package subdirectories ... OK
- checking R files for non-ASCII characters ... OK
- checking R files for syntax errors ... OK
- checking whether the package can be loaded ... OK
- checking whether the package can be loaded with stated dependencies ... OK
- checking whether the package can be unloaded cleanly ... OK
- checking whether the namespace can be loaded with stated dependencies ... OK
- checking whether the namespace can be unloaded cleanly ... OK
- checking loading without being on the library search path ... OK
- checking use of S3 registration ... OK
- checking dependencies in R code ... NOTE
Packages in Depends field not imported from:
‘Matching’ ‘R2jags’ ‘boot’
These packages need to be imported from (in the NAMESPACE file)
for when this namespace is loaded but not attached.
- checking S3 generic/method consistency ... OK
- checking replacement functions ... OK
- checking foreign function calls ... OK
- checking R code for possible problems ... NOTE
bpsm: no visible global function definition for ‘glm’
bpsm: no visible global function definition for ‘binomial’
bpsm: no visible global function definition for ‘Match’
bpsm: no visible global function definition for ‘cov’
bpsm: no visible global function definition for ‘vcov’
bpsm : inits: no visible global function definition for ‘runif’
bpsm: no visible global function definition for ‘jags’
bpsr: no visible global function definition for ‘glm’
bpsr: no visible global function definition for ‘binomial’
bpsr: no visible global function definition for ‘lm’
bpsr : inits: no visible global function definition for ‘runif’
bpsr: no visible global function definition for ‘jags’
modelpsm: no visible binding for global variable ‘D’
modelpsr: no visible binding for global variable ‘D’
Undefined global functions or variables:
D Match binomial cov glm jags lm runif vcov
Consider adding
importFrom("stats", "D", "binomial", "cov", "glm", "lm", "runif",
"vcov")
to your NAMESPACE file.
- checking Rd files ... OK
- checking Rd metadata ... OK
- checking Rd line widths ... OK
- checking Rd cross-references ... OK
- checking for missing documentation entries ... OK
- checking for code/documentation mismatches ... OK
- checking Rd \usage sections ... OK
- checking Rd contents ... OK
- checking for unstated dependencies in examples ... OK
- checking examples ... OK
- checking PDF version of manual ... OK
- DONE
Status: 2 NOTEs