- using R Under development (unstable) (2025-10-22 r88968)
- using platform: x86_64-pc-linux-gnu
- R was compiled by
clang version 21.1.4
flang version 21.1.4
- running under: Fedora Linux 42 (Workstation Edition)
- using session charset: UTF-8
- using option ‘--no-stop-on-test-error’
- checking for file ‘Ecdat/DESCRIPTION’ ... OK
- this is package ‘Ecdat’ version ‘0.4.7’
- checking package namespace information ... OK
- checking package dependencies ... OK
- checking if this is a source package ... OK
- checking if there is a namespace ... OK
- checking for executable files ... OK
- checking for hidden files and directories ... OK
- checking for portable file names ... OK
- checking for sufficient/correct file permissions ... OK
- checking whether package ‘Ecdat’ can be installed ... [8s/34s] OK
See the install log for details.
- checking installed package size ... OK
- checking package directory ... OK
- checking DESCRIPTION meta-information ... OK
- checking top-level files ... OK
- checking for left-over files ... OK
- checking index information ... OK
- checking package subdirectories ... OK
- checking whether the package can be loaded ... OK
- checking whether the package can be loaded with stated dependencies ... OK
- checking whether the package can be unloaded cleanly ... OK
- checking whether the namespace can be loaded with stated dependencies ... OK
- checking whether the namespace can be unloaded cleanly ... OK
- checking loading without being on the library search path ... OK
- checking use of S3 registration ... OK
- checking Rd files ... NOTE
checkRd: (-1) breaches.Rd:99-159: Only 4 columns allowed in this table (row 1 has 3)
checkRd: (-1) breaches.Rd:99-159: Only 4 columns allowed in this table (row 2 has 1)
checkRd: (-1) breaches.Rd:99-159: Only 4 columns allowed in this table (row 3 has 3)
checkRd: (-1) breaches.Rd:99-159: Only 4 columns allowed in this table (row 4 has 3)
checkRd: (-1) breaches.Rd:99-159: Only 4 columns allowed in this table (row 5 has 3)
checkRd: (-1) breaches.Rd:99-159: Only 4 columns allowed in this table (row 6 has 3)
checkRd: (-1) breaches.Rd:99-159: Only 4 columns allowed in this table (row 7 has 3)
checkRd: (-1) breaches.Rd:99-159: Only 4 columns allowed in this table (row 8 has 3)
checkRd: (-1) breaches.Rd:99-159: Only 4 columns allowed in this table (row 9 has 3)
checkRd: (-1) breaches.Rd:99-159: Only 4 columns allowed in this table (row 10 has 3)
checkRd: (-1) breaches.Rd:99-159: Only 4 columns allowed in this table (row 11 has 3)
checkRd: (-1) breaches.Rd:99-159: Only 4 columns allowed in this table (row 12 has 3)
checkRd: (-1) breaches.Rd:99-159: Only 4 columns allowed in this table (row 13 has 3)
checkRd: (-1) breaches.Rd:99-159: Only 4 columns allowed in this table (row 14 has 3)
checkRd: (-1) breaches.Rd:99-159: Only 4 columns allowed in this table (row 15 has 3)
checkRd: (-1) breaches.Rd:99-159: Only 4 columns allowed in this table (row 16 has 3)
checkRd: (-1) breaches.Rd:99-159: Only 4 columns allowed in this table (row 17 has 3)
checkRd: (-1) breaches.Rd:99-159: Only 4 columns allowed in this table (row 18 has 3)
checkRd: (-1) breaches.Rd:99-159: Only 4 columns allowed in this table (row 19 has 3)
checkRd: (-1) breaches.Rd:99-159: Only 4 columns allowed in this table (row 20 has 3)
checkRd: (-1) breaches.Rd:99-159: Only 4 columns allowed in this table (row 21 has 3)
checkRd: (-1) breaches.Rd:99-159: Only 4 columns allowed in this table (row 22 has 3)
checkRd: (-1) breaches.Rd:99-159: Only 4 columns allowed in this table (row 23 has 3)
checkRd: (-1) breaches.Rd:99-159: Only 4 columns allowed in this table (row 24 has 3)
checkRd: (-1) breaches.Rd:99-159: Only 4 columns allowed in this table (row 25 has 3)
checkRd: (-1) breaches.Rd:99-159: Only 4 columns allowed in this table (row 26 has 3)
- checking Rd metadata ... OK
- checking Rd line widths ... OK
- checking Rd cross-references ... OK
- checking for missing documentation entries ... OK
- checking for code/documentation mismatches ... OK
- checking Rd \usage sections ... OK
- checking Rd contents ... OK
- checking for unstated dependencies in examples ... OK
- checking contents of ‘data’ directory ... OK
- checking data for non-ASCII characters ... OK
- checking LazyData ... OK
- checking data for ASCII and uncompressed saves ... OK
- checking examples ... OK
- checking PDF version of manual ... [22s/53s] OK
- checking HTML version of manual ... [16s/50s] OK
- checking for non-standard things in the check directory ... OK
- checking for detritus in the temp directory ... OK
- DONE
Status: 1 NOTE