- using R Under development (unstable) (2018-04-20 r74620)
- using platform: x86_64-pc-linux-gnu (64-bit)
- using session charset: UTF-8
- using option ‘--no-stop-on-test-error’
- checking for file ‘EasyHTMLReport/DESCRIPTION’ ... OK
- checking extension type ... Package
- this is package ‘EasyHTMLReport’ version ‘0.1.1’
- checking package namespace information ... OK
- checking package dependencies ... OK
- checking if this is a source package ... OK
- checking if there is a namespace ... OK
- checking for executable files ... OK
- checking for hidden files and directories ... OK
- checking for portable file names ... OK
- checking for sufficient/correct file permissions ... OK
- checking whether package ‘EasyHTMLReport’ can be installed ... OK
- checking installed package size ... OK
- checking package directory ... OK
- checking DESCRIPTION meta-information ... OK
- checking top-level files ... NOTE
Non-standard files/directories found at top level:
‘easy_html_report_tmp_1376284934.59207.tsv’
‘easy_html_report_tmp_1376284935.5951.tsv’
‘easy_html_report_tmp_1376284936.59848.tsv’
- checking for left-over files ... OK
- checking index information ... OK
- checking package subdirectories ... OK
- checking R files for non-ASCII characters ... OK
- checking R files for syntax errors ... OK
- checking whether the package can be loaded ... OK
- checking whether the package can be loaded with stated dependencies ... OK
- checking whether the package can be unloaded cleanly ... OK
- checking whether the namespace can be loaded with stated dependencies ... OK
- checking whether the namespace can be unloaded cleanly ... OK
- checking loading without being on the library search path ... OK
- checking use of S3 registration ... OK
- checking dependencies in R code ... NOTE
Namespaces in Imports field not imported from:
‘ggplot2’ ‘reshape2’ ‘scales’ ‘xtable’
All declared Imports should be used.
Packages in Depends field not imported from:
‘base64enc’ ‘knitr’ ‘markdown’
These packages need to be imported from (in the NAMESPACE file)
for when this namespace is loaded but not attached.
- checking S3 generic/method consistency ... OK
- checking replacement functions ... OK
- checking foreign function calls ... OK
- checking R code for possible problems ... NOTE
.file_attachment: no visible global function definition for
‘base64encode’
.plot_attachment: no visible global function definition for ‘dev.off’
.update_list: no visible global function definition for ‘modifyList’
easyHtmlReport: no visible global function definition for ‘knit’
easyHtmlReport: no visible global function definition for
‘markdownToHTML’
mime_part.data.frame: no visible global function definition for
‘write.table’
mime_part.ggplot: no visible binding for global variable ‘pdf’
mime_part.matrix: no visible global function definition for
‘write.table’
mime_part.trellis: no visible binding for global variable ‘pdf’
simpleHtmlReport : <anonymous>: no visible global function definition
for ‘write.table’
Undefined global functions or variables:
base64encode dev.off knit markdownToHTML modifyList pdf write.table
Consider adding
importFrom("grDevices", "dev.off", "pdf")
importFrom("utils", "modifyList", "write.table")
to your NAMESPACE file.
- checking Rd files ... OK
- checking Rd metadata ... OK
- checking Rd line widths ... OK
- checking Rd cross-references ... OK
- checking for missing documentation entries ... OK
- checking for code/documentation mismatches ... OK
- checking Rd \usage sections ... OK
- checking Rd contents ... OK
- checking for unstated dependencies in examples ... OK
- checking examples ... OK
- checking PDF version of manual ... OK
- DONE
Status: 3 NOTEs