- using R Under development (unstable) (2024-04-29 r86495)
- using platform: x86_64-pc-linux-gnu
- R was compiled by
gcc-13 (Debian 13.2.0-23) 13.2.0
GNU Fortran (Debian 13.2.0-23) 13.2.0
- running under: Debian GNU/Linux trixie/sid
- using session charset: UTF-8
- checking for file ‘spData/DESCRIPTION’ ... OK
- this is package ‘spData’ version ‘2.3.0’
- package encoding: UTF-8
- checking package namespace information ... OK
- checking package dependencies ... NOTE
Package suggested but not available for checking: ‘spDataLarge’
- checking if this is a source package ... OK
- checking if there is a namespace ... OK
- checking for executable files ... OK
- checking for hidden files and directories ... OK
- checking for portable file names ... OK
- checking for sufficient/correct file permissions ... OK
- checking serialization versions ... OK
- checking whether package ‘spData’ can be installed ... OK
See the install log for details.
- checking package directory ... OK
- checking for future file timestamps ... OK
- checking DESCRIPTION meta-information ... OK
- checking top-level files ... OK
- checking for left-over files ... OK
- checking index information ... OK
- checking package subdirectories ... OK
- checking code files for non-ASCII characters ... OK
- checking R files for syntax errors ... OK
- checking whether the package can be loaded ... [0s/1s] OK
- checking whether the package can be loaded with stated dependencies ... [0s/1s] OK
- checking whether the package can be unloaded cleanly ... [0s/1s] OK
- checking whether the namespace can be loaded with stated dependencies ... [0s/1s] OK
- checking whether the namespace can be unloaded cleanly ... [0s/1s] OK
- checking loading without being on the library search path ... [0s/1s] OK
- checking whether startup messages can be suppressed ... [0s/1s] OK
- checking use of S3 registration ... OK
- checking dependencies in R code ... OK
- checking S3 generic/method consistency ... OK
- checking replacement functions ... OK
- checking foreign function calls ... OK
- checking R code for possible problems ... [4s/8s] OK
- checking Rd files ... [1s/2s] NOTE
checkRd: (-1) afcon.Rd:13: Lost braces in \itemize; meant \describe ?
checkRd: (-1) afcon.Rd:14: Lost braces in \itemize; meant \describe ?
checkRd: (-1) afcon.Rd:15: Lost braces in \itemize; meant \describe ?
checkRd: (-1) afcon.Rd:16: Lost braces in \itemize; meant \describe ?
checkRd: (-1) afcon.Rd:17: Lost braces in \itemize; meant \describe ?
checkRd: (-1) alaska.Rd:10: Lost braces in \itemize; meant \describe ?
checkRd: (-1) alaska.Rd:11: Lost braces in \itemize; meant \describe ?
checkRd: (-1) alaska.Rd:12: Lost braces in \itemize; meant \describe ?
checkRd: (-1) alaska.Rd:13: Lost braces in \itemize; meant \describe ?
checkRd: (-1) alaska.Rd:14: Lost braces in \itemize; meant \describe ?
checkRd: (-1) alaska.Rd:15: Lost braces in \itemize; meant \describe ?
checkRd: (-1) alaska.Rd:16: Lost braces in \itemize; meant \describe ?
checkRd: (-1) auckland.Rd:12: Lost braces in \itemize; meant \describe ?
checkRd: (-1) auckland.Rd:13: Lost braces in \itemize; meant \describe ?
checkRd: (-1) auckland.Rd:14: Lost braces in \itemize; meant \describe ?
checkRd: (-1) auckland.Rd:15: Lost braces in \itemize; meant \describe ?
checkRd: (-1) baltimore.Rd:10: Lost braces in \itemize; meant \describe ?
checkRd: (-1) baltimore.Rd:11: Lost braces in \itemize; meant \describe ?
checkRd: (-1) baltimore.Rd:12: Lost braces in \itemize; meant \describe ?
checkRd: (-1) baltimore.Rd:13: Lost braces in \itemize; meant \describe ?
checkRd: (-1) baltimore.Rd:14: Lost braces in \itemize; meant \describe ?
checkRd: (-1) baltimore.Rd:15: Lost braces in \itemize; meant \describe ?
checkRd: (-1) baltimore.Rd:16: Lost braces in \itemize; meant \describe ?
checkRd: (-1) baltimore.Rd:17: Lost braces in \itemize; meant \describe ?
checkRd: (-1) baltimore.Rd:18: Lost braces in \itemize; meant \describe ?
checkRd: (-1) baltimore.Rd:19: Lost braces in \itemize; meant \describe ?
checkRd: (-1) baltimore.Rd:20: Lost braces in \itemize; meant \describe ?
checkRd: (-1) baltimore.Rd:21: Lost braces in \itemize; meant \describe ?
checkRd: (-1) baltimore.Rd:22: Lost braces in \itemize; meant \describe ?
checkRd: (-1) baltimore.Rd:23: Lost braces in \itemize; meant \describe ?
checkRd: (-1) baltimore.Rd:24: Lost braces in \itemize; meant \describe ?
checkRd: (-1) baltimore.Rd:25: Lost braces in \itemize; meant \describe ?
checkRd: (-1) baltimore.Rd:26: Lost braces in \itemize; meant \describe ?
checkRd: (-1) boston.Rd:13: Lost braces in \itemize; meant \describe ?
checkRd: (-1) boston.Rd:14: Lost braces in \itemize; meant \describe ?
checkRd: (-1) boston.Rd:15: Lost braces in \itemize; meant \describe ?
checkRd: (-1) boston.Rd:16: Lost braces in \itemize; meant \describe ?
checkRd: (-1) boston.Rd:17: Lost braces in \itemize; meant \describe ?
checkRd: (-1) boston.Rd:18-19: Lost braces in \itemize; meant \describe ?
checkRd: (-1) boston.Rd:20-21: Lost braces in \itemize; meant \describe ?
checkRd: (-1) boston.Rd:22: Lost braces in \itemize; meant \describe ?
checkRd: (-1) boston.Rd:23-24: Lost braces in \itemize; meant \describe ?
checkRd: (-1) boston.Rd:25-26: Lost braces in \itemize; meant \describe ?
checkRd: (-1) boston.Rd:27-28: Lost braces in \itemize; meant \describe ?
checkRd: (-1) boston.Rd:29-30: Lost braces in \itemize; meant \describe ?
checkRd: (-1) boston.Rd:31: Lost braces in \itemize; meant \describe ?
checkRd: (-1) boston.Rd:32-33: Lost braces in \itemize; meant \describe ?
checkRd: (-1) boston.Rd:34-35: Lost braces in \itemize; meant \describe ?
checkRd: (-1) boston.Rd:36-37: Lost braces in \itemize; meant \describe ?
checkRd: (-1) boston.Rd:38-39: Lost braces in \itemize; meant \describe ?
checkRd: (-1) boston.Rd:40-41: Lost braces in \itemize; meant \describe ?
checkRd: (-1) boston.Rd:42-43: Lost braces in \itemize; meant \describe ?
checkRd: (-1) boston.Rd:44-45: Lost braces in \itemize; meant \describe ?
checkRd: (-1) boston.Rd:57: Lost braces in \itemize; meant \describe ?
checkRd: (-1) boston.Rd:58: Lost braces in \itemize; meant \describe ?
checkRd: (-1) boston.Rd:59: Lost braces in \itemize; meant \describe ?
checkRd: (-1) boston.Rd:60: Lost braces in \itemize; meant \describe ?
checkRd: (-1) boston.Rd:61: Lost braces in \itemize; meant \describe ?
checkRd: (-1) boston.Rd:62: Lost braces in \itemize; meant \describe ?
checkRd: (-1) boston.Rd:63: Lost braces in \itemize; meant \describe ?
checkRd: (-1) boston.Rd:64: Lost braces in \itemize; meant \describe ?
checkRd: (-1) boston.Rd:65: Lost braces in \itemize; meant \describe ?
checkRd: (-1) boston.Rd:66: Lost braces in \itemize; meant \describe ?
checkRd: (-1) coffee_data.Rd:10: Lost braces in \itemize; meant \describe ?
checkRd: (-1) coffee_data.Rd:11: Lost braces in \itemize; meant \describe ?
checkRd: (-1) coffee_data.Rd:12: Lost braces in \itemize; meant \describe ?
checkRd: (-1) columbus.Rd:14: Lost braces in \itemize; meant \describe ?
checkRd: (-1) columbus.Rd:15: Lost braces in \itemize; meant \describe ?
checkRd: (-1) columbus.Rd:16: Lost braces in \itemize; meant \describe ?
checkRd: (-1) columbus.Rd:17: Lost braces in \itemize; meant \describe ?
checkRd: (-1) columbus.Rd:18: Lost braces in \itemize; meant \describe ?
checkRd: (-1) columbus.Rd:19-20: Lost braces in \itemize; meant \describe ?
checkRd: (-1) columbus.Rd:21: Lost braces in \itemize; meant \describe ?
checkRd: (-1) columbus.Rd:22: Lost braces in \itemize; meant \describe ?
checkRd: (-1) columbus.Rd:23-24: Lost braces in \itemize; meant \describe ?
checkRd: (-1) columbus.Rd:25: Lost braces in \itemize; meant \describe ?
checkRd: (-1) columbus.Rd:26: Lost braces in \itemize; meant \describe ?
checkRd: (-1) columbus.Rd:27: Lost braces in \itemize; meant \describe ?
checkRd: (-1) columbus.Rd:28: Lost braces in \itemize; meant \describe ?
checkRd: (-1) columbus.Rd:29: Lost braces in \itemize; meant \describe ?
checkRd: (-1) columbus.Rd:30: Lost braces in \itemize; meant \describe ?
checkRd: (-1) columbus.Rd:31: Lost braces in \itemize; meant \describe ?
checkRd: (-1) columbus.Rd:32: Lost braces in \itemize; meant \describe ?
checkRd: (-1) columbus.Rd:33: Lost braces in \itemize; meant \describe ?
checkRd: (-1) columbus.Rd:34: Lost braces in \itemize; meant \describe ?
checkRd: (-1) columbus.Rd:35: Lost braces in \itemize; meant \describe ?
checkRd: (-1) cycle_hire.Rd:10: Lost braces in \itemize; meant \describe ?
checkRd: (-1) cycle_hire.Rd:11: Lost braces in \itemize; meant \describe ?
checkRd: (-1) cycle_hire.Rd:12: Lost braces in \itemize; meant \describe ?
checkRd: (-1) cycle_hire.Rd:13: Lost braces in \itemize; meant \describe ?
checkRd: (-1) cycle_hire.Rd:14: Lost braces in \itemize; meant \describe ?
checkRd: (-1) cycle_hire.Rd:15: Lost braces in \itemize; meant \describe ?
checkRd: (-1) cycle_hire_osm.Rd:9: Lost braces in \itemize; meant \describe ?
checkRd: (-1) cycle_hire_osm.Rd:10: Lost braces in \itemize; meant \describe ?
checkRd: (-1) cycle_hire_osm.Rd:11: Lost braces in \itemize; meant \describe ?
checkRd: (-1) cycle_hire_osm.Rd:12: Lost braces in \itemize; meant \describe ?
checkRd: (-1) cycle_hire_osm.Rd:13: Lost braces in \itemize; meant \describe ?
checkRd: (-1) cycle_hire_osm.Rd:14: Lost braces in \itemize; meant \describe ?
checkRd: (-1) depmunic.Rd:10: Lost braces in \itemize; meant \describe ?
checkRd: (-1) depmunic.Rd:11: Lost braces in \itemize; meant \describe ?
checkRd: (-1) depmunic.Rd:12: Lost braces in \itemize; meant \describe ?
checkRd: (-1) depmunic.Rd:13: Lost braces in \itemize; meant \describe ?
checkRd: (-1) depmunic.Rd:14: Lost braces in \itemize; meant \describe ?
checkRd: (-1) depmunic.Rd:15: Lost braces in \itemize; meant \describe ?
checkRd: (-1) depmunic.Rd:16: Lost braces in \itemize; meant \describe ?
checkRd: (-1) eire.Rd:14: Lost braces in \itemize; meant \describe ?
checkRd: (-1) eire.Rd:15: Lost braces in \itemize; meant \describe ?
checkRd: (-1) eire.Rd:16: Lost braces in \itemize; meant \describe ?
checkRd: (-1) eire.Rd:17: Lost braces in \itemize; meant \describe ?
checkRd: (-1) eire.Rd:18: Lost braces in \itemize; meant \describe ?
checkRd: (-1) eire.Rd:19: Lost braces in \itemize; meant \describe ?
checkRd: (-1) eire.Rd:20: Lost braces in \itemize; meant \describe ?
checkRd: (-1) eire.Rd:21: Lost braces in \itemize; meant \describe ?
checkRd: (-1) eire.Rd:22: Lost braces in \itemize; meant \describe ?
checkRd: (-1) eire.Rd:23: Lost braces in \itemize; meant \describe ?
checkRd: (-1) elect80.Rd:14: Lost braces in \itemize; meant \describe ?
checkRd: (-1) elect80.Rd:15: Lost braces in \itemize; meant \describe ?
checkRd: (-1) elect80.Rd:16: Lost braces in \itemize; meant \describe ?
checkRd: (-1) elect80.Rd:17: Lost braces in \itemize; meant \describe ?
checkRd: (-1) elect80.Rd:18: Lost braces in \itemize; meant \describe ?
checkRd: (-1) elect80.Rd:19: Lost braces in \itemize; meant \describe ?
checkRd: (-1) elect80.Rd:20: Lost braces in \itemize; meant \describe ?
checkRd: (-1) getisord.Rd:13: Lost braces in \itemize; meant \describe ?
checkRd: (-1) getisord.Rd:14: Lost braces in \itemize; meant \describe ?
checkRd: (-1) getisord.Rd:15: Lost braces in \itemize; meant \describe ?
checkRd: (-1) hawaii.Rd:10: Lost braces in \itemize; meant \describe ?
checkRd: (-1) hawaii.Rd:11: Lost braces in \itemize; meant \describe ?
checkRd: (-1) hawaii.Rd:12: Lost braces in \itemize; meant \describe ?
checkRd: (-1) hawaii.Rd:13: Lost braces in \itemize; meant \describe ?
checkRd: (-1) hawaii.Rd:14: Lost braces in \itemize; meant \describe ?
checkRd: (-1) hawaii.Rd:15: Lost braces in \itemize; meant \describe ?
checkRd: (-1) hawaii.Rd:16: Lost braces in \itemize; meant \describe ?
checkRd: (-1) house.Rd:12: Lost braces in \itemize; meant \describe ?
checkRd: (-1) house.Rd:13: Lost braces in \itemize; meant \describe ?
checkRd: (-1) house.Rd:14: Lost braces in \itemize; meant \describe ?
checkRd: (-1) house.Rd:15: Lost braces in \itemize; meant \describe ?
checkRd: (-1) house.Rd:16: Lost braces in \itemize; meant \describe ?
checkRd: (-1) house.Rd:17: Lost braces in \itemize; meant \describe ?
checkRd: (-1) house.Rd:18: Lost braces in \itemize; meant \describe ?
checkRd: (-1) house.Rd:19: Lost braces in \itemize; meant \describe ?
checkRd: (-1) house.Rd:20: Lost braces in \itemize; meant \describe ?
checkRd: (-1) house.Rd:21: Lost braces in \itemize; meant \describe ?
checkRd: (-1) house.Rd:22: Lost braces in \itemize; meant \describe ?
checkRd: (-1) house.Rd:23: Lost braces in \itemize; meant \describe ?
checkRd: (-1) house.Rd:24: Lost braces in \itemize; meant \describe ?
checkRd: (-1) house.Rd:25: Lost braces in \itemize; meant \describe ?
checkRd: (-1) house.Rd:26: Lost braces in \itemize; meant \describe ?
checkRd: (-1) house.Rd:27: Lost braces in \itemize; meant \describe ?
checkRd: (-1) house.Rd:28: Lost braces in \itemize; meant \describe ?
checkRd: (-1) house.Rd:29: Lost braces in \itemize; meant \describe ?
checkRd: (-1) house.Rd:30: Lost braces in \itemize; meant \describe ?
checkRd: (-1) house.Rd:31: Lost braces in \itemize; meant \describe ?
checkRd: (-1) house.Rd:32: Lost braces in \itemize; meant \describe ?
checkRd: (-1) house.Rd:33: Lost braces in \itemize; meant \describe ?
checkRd: (-1) house.Rd:34: Lost braces in \itemize; meant \describe ?
checkRd: (-1) house.Rd:35: Lost braces in \itemize; meant \describe ?
checkRd: (-1) huddersfield.Rd:10: Lost braces in \itemize; meant \describe ?
checkRd: (-1) huddersfield.Rd:11: Lost braces in \itemize; meant \describe ?
checkRd: (-1) jenks71.Rd:10: Lost braces in \itemize; meant \describe ?
checkRd: (-1) jenks71.Rd:11: Lost braces in \itemize; meant \describe ?
checkRd: (-1) lnd.Rd:9: Lost braces in \itemize; meant \describe ?
checkRd: (-1) lnd.Rd:10: Lost braces in \itemize; meant \describe ?
checkRd: (-1) lnd.Rd:11: Lost braces in \itemize; meant \describe ?
checkRd: (-1) lnd.Rd:12: Lost braces in \itemize; meant \describe ?
checkRd: (-1) lnd.Rd:13: Lost braces in \itemize; meant \describe ?
checkRd: (-1) lnd.Rd:14: Lost braces in \itemize; meant \describe ?
checkRd: (-1) lnd.Rd:15: Lost braces in \itemize; meant \describe ?
checkRd: (-1) lnd.Rd:16: Lost braces in \itemize; meant \describe ?
checkRd: (-1) nc.sids.Rd:14: Lost braces in \itemize; meant \describe ?
checkRd: (-1) nc.sids.Rd:15: Lost braces in \itemize; meant \describe ?
checkRd: (-1) nc.sids.Rd:16: Lost braces in \itemize; meant \describe ?
checkRd: (-1) nc.sids.Rd:17: Lost braces in \itemize; meant \describe ?
checkRd: (-1) nc.sids.Rd:18: Lost braces in \itemize; meant \describe ?
checkRd: (-1) nc.sids.Rd:19: Lost braces in \itemize; meant \describe ?
checkRd: (-1) nc.sids.Rd:20: Lost braces in \itemize; meant \describe ?
checkRd: (-1) nc.sids.Rd:21: Lost braces in \itemize; meant \describe ?
checkRd: (-1) nc.sids.Rd:22: Lost braces in \itemize; meant \describe ?
checkRd: (-1) nc.sids.Rd:23: Lost braces in \itemize; meant \describe ?
checkRd: (-1) nc.sids.Rd:24: Lost braces in \itemize; meant \describe ?
checkRd: (-1) nc.sids.Rd:25: Lost braces in \itemize; meant \describe ?
checkRd: (-1) nc.sids.Rd:26: Lost braces in \itemize; meant \describe ?
checkRd: (-1) nc.sids.Rd:27: Lost braces in \itemize; meant \describe ?
checkRd: (-1) nc.sids.Rd:28: Lost braces in \itemize; meant \describe ?
checkRd: (-1) nc.sids.Rd:29: Lost braces in \itemize; meant \describe ?
checkRd: (-1) nc.sids.Rd:30: Lost braces in \itemize; meant \describe ?
checkRd: (-1) nc.sids.Rd:31: Lost braces in \itemize; meant \describe ?
checkRd: (-1) nc.sids.Rd:32: Lost braces in \itemize; meant \describe ?
checkRd: (-1) nc.sids.Rd:33: Lost braces in \itemize; meant \describe ?
checkRd: (-1) nydata.Rd:12: Lost braces in \itemize; meant \describe ?
checkRd: (-1) nydata.Rd:13: Lost braces in \itemize; meant \describe ?
checkRd: (-1) nydata.Rd:14: Lost braces in \itemize; meant \describe ?
checkRd: (-1) nydata.Rd:15: Lost braces in \itemize; meant \describe ?
checkRd: (-1) nydata.Rd:16: Lost braces in \itemize; meant \describe ?
checkRd: (-1) nydata.Rd:17: Lost braces in \itemize; meant \describe ?
checkRd: (-1) nydata.Rd:18: Lost braces in \itemize; meant \describe ?
checkRd: (-1) nydata.Rd:19: Lost braces in \itemize; meant \describe ?
checkRd: (-1) nydata.Rd:20: Lost braces in \itemize; meant \describe ?
checkRd: (-1) nydata.Rd:21: Lost braces in \itemize; meant \describe ?
checkRd: (-1) nydata.Rd:22: Lost braces in \itemize; meant \describe ?
checkRd: (-1) nydata.Rd:23: Lost braces in \itemize; meant \describe ?
checkRd: (-1) nz.Rd:11: Lost braces in \itemize; meant \describe ?
checkRd: (-1) nz.Rd:12: Lost braces in \itemize; meant \describe ?
checkRd: (-1) nz.Rd:13: Lost braces in \itemize; meant \describe ?
checkRd: (-1) nz.Rd:14: Lost braces in \itemize; meant \describe ?
checkRd: (-1) nz.Rd:15: Lost braces in \itemize; meant \describe ?
checkRd: (-1) nz.Rd:16: Lost braces in \itemize; meant \describe ?
checkRd: (-1) nz.Rd:17: Lost braces in \itemize; meant \describe ?
checkRd: (-1) nz_height.Rd:10: Lost braces in \itemize; meant \describe ?
checkRd: (-1) nz_height.Rd:11: Lost braces in \itemize; meant \describe ?
checkRd: (-1) nz_height.Rd:12: Lost braces in \itemize; meant \describe ?
checkRd: (-1) properties.Rd:10: Lost braces in \itemize; meant \describe ?
checkRd: (-1) properties.Rd:11: Lost braces in \itemize; meant \describe ?
checkRd: (-1) properties.Rd:12: Lost braces in \itemize; meant \describe ?
checkRd: (-1) properties.Rd:13: Lost braces in \itemize; meant \describe ?
checkRd: (-1) properties.Rd:14: Lost braces in \itemize; meant \describe ?
checkRd: (-1) properties.Rd:15: Lost braces in \itemize; meant \describe ?
checkRd: (-1) seine.Rd:11: Lost braces in \itemize; meant \describe ?
checkRd: (-1) seine.Rd:12: Lost braces in \itemize; meant \describe ?
checkRd: (-1) urban_agglomerations.Rd:10: Lost braces in \itemize; meant \describe ?
checkRd: (-1) urban_agglomerations.Rd:11: Lost braces in \itemize; meant \describe ?
checkRd: (-1) urban_agglomerations.Rd:12: Lost braces in \itemize; meant \describe ?
checkRd: (-1) urban_agglomerations.Rd:13: Lost braces in \itemize; meant \describe ?
checkRd: (-1) urban_agglomerations.Rd:14: Lost braces in \itemize; meant \describe ?
checkRd: (-1) us_states.Rd:10: Lost braces in \itemize; meant \describe ?
checkRd: (-1) us_states.Rd:11: Lost braces in \itemize; meant \describe ?
checkRd: (-1) us_states.Rd:12: Lost braces in \itemize; meant \describe ?
checkRd: (-1) us_states.Rd:13: Lost braces in \itemize; meant \describe ?
checkRd: (-1) us_states.Rd:14: Lost braces in \itemize; meant \describe ?
checkRd: (-1) us_states.Rd:15: Lost braces in \itemize; meant \describe ?
checkRd: (-1) us_states.Rd:16: Lost braces in \itemize; meant \describe ?
checkRd: (-1) us_states_df.Rd:10: Lost braces in \itemize; meant \describe ?
checkRd: (-1) us_states_df.Rd:11: Lost braces in \itemize; meant \describe ?
checkRd: (-1) us_states_df.Rd:12: Lost braces in \itemize; meant \describe ?
checkRd: (-1) us_states_df.Rd:13: Lost braces in \itemize; meant \describe ?
checkRd: (-1) us_states_df.Rd:14: Lost braces in \itemize; meant \describe ?
checkRd: (-1) used.cars.Rd:11: Lost braces in \itemize; meant \describe ?
checkRd: (-1) used.cars.Rd:12: Lost braces in \itemize; meant \describe ?
checkRd: (-1) wheat.Rd:10: Lost braces in \itemize; meant \describe ?
checkRd: (-1) wheat.Rd:11: Lost braces in \itemize; meant \describe ?
checkRd: (-1) wheat.Rd:12: Lost braces in \itemize; meant \describe ?
checkRd: (-1) wheat.Rd:13: Lost braces in \itemize; meant \describe ?
checkRd: (-1) wheat.Rd:14: Lost braces in \itemize; meant \describe ?
checkRd: (-1) wheat.Rd:15: Lost braces in \itemize; meant \describe ?
checkRd: (-1) world.Rd:11: Lost braces in \itemize; meant \describe ?
checkRd: (-1) world.Rd:12: Lost braces in \itemize; meant \describe ?
checkRd: (-1) world.Rd:13: Lost braces in \itemize; meant \describe ?
checkRd: (-1) world.Rd:14: Lost braces in \itemize; meant \describe ?
checkRd: (-1) world.Rd:15: Lost braces in \itemize; meant \describe ?
checkRd: (-1) world.Rd:16: Lost braces in \itemize; meant \describe ?
checkRd: (-1) world.Rd:17: Lost braces in \itemize; meant \describe ?
checkRd: (-1) world.Rd:18: Lost braces in \itemize; meant \describe ?
checkRd: (-1) world.Rd:19: Lost braces in \itemize; meant \describe ?
checkRd: (-1) world.Rd:20: Lost braces in \itemize; meant \describe ?
checkRd: (-1) world.Rd:21: Lost braces in \itemize; meant \describe ?
checkRd: (-1) worldbank_df.Rd:10: Lost braces in \itemize; meant \describe ?
checkRd: (-1) worldbank_df.Rd:11: Lost braces in \itemize; meant \describe ?
checkRd: (-1) worldbank_df.Rd:12: Lost braces in \itemize; meant \describe ?
checkRd: (-1) worldbank_df.Rd:13: Lost braces in \itemize; meant \describe ?
checkRd: (-1) worldbank_df.Rd:14: Lost braces in \itemize; meant \describe ?
checkRd: (-1) worldbank_df.Rd:15: Lost braces in \itemize; meant \describe ?
checkRd: (-1) worldbank_df.Rd:16: Lost braces in \itemize; meant \describe ?
- checking Rd metadata ... OK
- checking Rd line widths ... OK
- checking Rd cross-references ... OK
- checking for missing documentation entries ... OK
- checking for code/documentation mismatches ... OK
- checking Rd \usage sections ... OK
- checking Rd contents ... OK
- checking for unstated dependencies in examples ... OK
- checking contents of ‘data’ directory ... OK
- checking data for non-ASCII characters ... [1s/2s] OK
- checking LazyData ... OK
- checking data for ASCII and uncompressed saves ... OK
- checking examples ... [6s/9s] OK
- checking PDF version of manual ... [7s/16s] OK
- checking HTML version of manual ... [1s/3s] OK
- checking for non-standard things in the check directory ... OK
- DONE
Status: 2 NOTEs