- using R Under development (unstable) (2023-12-08 r85664)
- using platform: x86_64-pc-linux-gnu
- R was compiled by
gcc-13 (Debian 13.2.0-7) 13.2.0
GNU Fortran (Debian 13.2.0-7) 13.2.0
- running under: Debian GNU/Linux trixie/sid
- using session charset: UTF-8
- checking for file ‘sirt/DESCRIPTION’ ... OK
- checking extension type ... Package
- this is package ‘sirt’ version ‘3.13-228’
- checking package namespace information ... OK
- checking package dependencies ... OK
- checking if this is a source package ... OK
- checking if there is a namespace ... OK
- checking for executable files ... OK
- checking for hidden files and directories ... OK
- checking for portable file names ... OK
- checking for sufficient/correct file permissions ... OK
- checking whether package ‘sirt’ can be installed ... OK
See the install log for details.
- used C++ compiler: ‘g++-13 (Debian 13.2.0-7) 13.2.0’
- checking package directory ... OK
- checking for future file timestamps ... OK
- checking DESCRIPTION meta-information ... OK
- checking top-level files ... OK
- checking for left-over files ... OK
- checking index information ... OK
- checking package subdirectories ... OK
- checking R files for non-ASCII characters ... OK
- checking R files for syntax errors ... OK
- checking whether the package can be loaded ... [1s/1s] OK
- checking whether the package can be loaded with stated dependencies ... [1s/1s] OK
- checking whether the package can be unloaded cleanly ... [1s/1s] OK
- checking whether the namespace can be loaded with stated dependencies ... [1s/1s] OK
- checking whether the namespace can be unloaded cleanly ... [1s/1s] OK
- checking loading without being on the library search path ... [1s/1s] OK
- checking whether startup messages can be suppressed ... [1s/1s] OK
- checking use of S3 registration ... OK
- checking dependencies in R code ... OK
- checking S3 generic/method consistency ... OK
- checking replacement functions ... OK
- checking foreign function calls ... OK
- checking R code for possible problems ... [158s/263s] OK
- checking Rd files ... [3s/7s] NOTE
checkRd: (-1) noharm.sirt.Rd:263: Lost braces; missing escapes or markup?
263 | is available as freeware ({http://noharm.niagararesearch.ca/};
| ^
checkRd: (-1) person.parameter.rasch.copula.Rd:22: Lost braces
22 | Object which is generated by the code{rasch.copula2} function.
| ^
checkRd: (-1) rasch.jml.jackknife1.Rd:32: Lost braces; missing escapes or markup?
32 | \item \code{b.JML}: {Item difficulty from JML estimation}
| ^
checkRd: (-1) rasch.jml.jackknife1.Rd:33-34: Lost braces
33 | \item \code{b.JMLcorr}: {Item difficulty from JML estimation by
| ^
checkRd: (-1) rasch.jml.jackknife1.Rd:35: Lost braces; missing escapes or markup?
35 | \item \code{b.jack}: {Item difficulty from Jackknife estimation}
| ^
checkRd: (-1) rasch.jml.jackknife1.Rd:36-39: Lost braces
36 | \item \code{b.jackse}: {Standard error of Jackknife estimation
| ^
checkRd: (-1) rasch.jml.jackknife1.Rd:40-41: Lost braces
40 | \item \code{b.JMLse}: {Standard error for item difficulties
| ^
- checking Rd metadata ... OK
- checking Rd line widths ... OK
- checking Rd cross-references ... OK
- checking for missing documentation entries ... OK
- checking for code/documentation mismatches ... OK
- checking Rd \usage sections ... OK
- checking Rd contents ... OK
- checking for unstated dependencies in examples ... OK
- checking contents of ‘data’ directory ... OK
- checking data for non-ASCII characters ... [2s/3s] OK
- checking data for ASCII and uncompressed saves ... OK
- checking line endings in C/C++/Fortran sources/headers ... OK
- checking line endings in Makefiles ... OK
- checking compilation flags in Makevars ... OK
- checking for GNU extensions in Makefiles ... OK
- checking for portable use of $(BLAS_LIBS) and $(LAPACK_LIBS) ... OK
- checking use of PKG_*FLAGS in Makefiles ... OK
- checking use of SHLIB_OPENMP_*FLAGS in Makefiles ... OK
- checking pragmas in C/C++ headers and code ... OK
- checking compilation flags used ... OK
- checking compiled code ... OK
- checking examples ... [38s/61s] OK
Examples with CPU (user + system) or elapsed time > 5s
user system elapsed
rasch.jml.jackknife1 3.793 0.105 6.32
- checking PDF version of manual ... [19s/35s] OK
- checking HTML version of manual ... [15s/31s] OK
- checking for non-standard things in the check directory ... OK
- DONE
Status: 1 NOTE