- using R Under development (unstable) (2024-04-29 r86495)
- using platform: x86_64-pc-linux-gnu
- R was compiled by
gcc-13 (Debian 13.2.0-23) 13.2.0
GNU Fortran (Debian 13.2.0-23) 13.2.0
- running under: Debian GNU/Linux trixie/sid
- using session charset: UTF-8
- checking for file ‘ruminate/DESCRIPTION’ ... OK
- this is package ‘ruminate’ version ‘0.2.2’
- package encoding: UTF-8
- checking package namespace information ... OK
- checking package dependencies ... OK
- checking if this is a source package ... OK
- checking if there is a namespace ... OK
- checking for executable files ... OK
- checking for hidden files and directories ... OK
- checking for portable file names ... OK
- checking for sufficient/correct file permissions ... OK
- checking whether package ‘ruminate’ can be installed ... OK
See the install log for details.
- checking package directory ... OK
- checking for future file timestamps ... OK
- checking ‘build’ directory ... OK
- checking DESCRIPTION meta-information ... OK
- checking top-level files ... OK
- checking for left-over files ... OK
- checking index information ... OK
- checking package subdirectories ... OK
- checking code files for non-ASCII characters ... OK
- checking R files for syntax errors ... OK
- checking whether the package can be loaded ... [3s/5s] OK
- checking whether the package can be loaded with stated dependencies ... [3s/5s] OK
- checking whether the package can be unloaded cleanly ... [3s/3s] OK
- checking whether the namespace can be loaded with stated dependencies ... [2s/3s] OK
- checking whether the namespace can be unloaded cleanly ... [3s/4s] OK
- checking loading without being on the library search path ... [2s/4s] OK
- checking whether startup messages can be suppressed ... [3s/5s] OK
- checking use of S3 registration ... OK
- checking dependencies in R code ... OK
- checking S3 generic/method consistency ... OK
- checking replacement functions ... OK
- checking foreign function calls ... OK
- checking R code for possible problems ... [28s/46s] OK
- checking Rd files ... [1s/1s] OK
- checking Rd metadata ... OK
- checking Rd line widths ... OK
- checking Rd cross-references ... OK
- checking for missing documentation entries ... OK
- checking for code/documentation mismatches ... OK
- checking Rd \usage sections ... OK
- checking Rd contents ... OK
- checking for unstated dependencies in examples ... OK
- checking installed files from ‘inst/doc’ ... OK
- checking files in ‘vignettes’ ... OK
- checking examples ... [77s/123s] OK
Examples with CPU (user + system) or elapsed time > 5s
user system elapsed
run_nca_components 4.329 0.048 7.260
mk_figure_ind_obs 4.298 0.043 7.169
NCA_fetch_current_obj 4.017 0.078 5.760
NCA_append_report 3.890 0.167 6.947
mk_table_nca_params 3.911 0.064 6.236
NCA_fetch_code 3.768 0.091 5.570
NCA_fetch_ana_ds 3.668 0.156 6.501
mk_table_ind_obs 3.774 0.044 5.762
NCA_new_ana 3.751 0.052 6.080
NCA_find_col 3.676 0.097 6.254
NCA_fetch_ana_pknca 3.695 0.064 6.130
NCA_fetch_state 3.626 0.028 6.505
nca_builder 3.574 0.051 5.883
NCA_fetch_ds 3.555 0.043 5.590
NCA_set_current_ana 3.513 0.062 5.035
NCA_fetch_current_ana 3.486 0.079 6.302
NCA_process_current_ana 3.448 0.047 5.758
NCA_mkactive_ana 3.430 0.055 5.768
- checking for unstated dependencies in ‘tests’ ... OK
- checking tests ... [22s/35s] OK
Running ‘testthat.R’ [21s/35s]
- checking for unstated dependencies in vignettes ... OK
- checking package vignettes ... OK
- checking re-building of vignette outputs ... [7s/15s] OK
- checking PDF version of manual ... [5s/12s] OK
- checking HTML version of manual ... [1s/2s] OK
- checking for non-standard things in the check directory ... OK
- DONE
Status: OK