- using R Under development (unstable) (2025-10-20 r88955)
- using platform: x86_64-pc-linux-gnu
- R was compiled by
gcc-15 (Debian 15.2.0-4) 15.2.0
GNU Fortran (Debian 15.2.0-4) 15.2.0
- running under: Debian GNU/Linux forky/sid
- using session charset: UTF-8
- checking for file ‘plyr/DESCRIPTION’ ... OK
- this is package ‘plyr’ version ‘1.8.9’
- package encoding: UTF-8
- checking CRAN incoming feasibility ... [1s/2s] OK
- checking package namespace information ... OK
- checking package dependencies ... OK
- checking if this is a source package ... OK
- checking if there is a namespace ... OK
- checking for executable files ... OK
- checking for hidden files and directories ... OK
- checking for portable file names ... OK
- checking for sufficient/correct file permissions ... OK
- checking serialization versions ... OK
- checking whether package ‘plyr’ can be installed ... OK
See the install log for details.
- used C compiler: ‘gcc-15 (Debian 15.2.0-4) 15.2.0’
- used C++ compiler: ‘g++-15 (Debian 15.2.0-4) 15.2.0’
- checking package directory ... OK
- checking for future file timestamps ... OK
- checking DESCRIPTION meta-information ... OK
- checking top-level files ... OK
- checking for left-over files ... OK
- checking index information ... OK
- checking package subdirectories ... OK
- checking code files for non-ASCII characters ... OK
- checking R files for syntax errors ... OK
- checking whether the package can be loaded ... [0s/0s] OK
- checking whether the package can be loaded with stated dependencies ... [0s/0s] OK
- checking whether the package can be unloaded cleanly ... [0s/0s] OK
- checking whether the namespace can be loaded with stated dependencies ... [0s/0s] OK
- checking whether the namespace can be unloaded cleanly ... [0s/1s] OK
- checking loading without being on the library search path ... [0s/1s] OK
- checking use of S3 registration ... OK
- checking dependencies in R code ... OK
- checking S3 generic/method consistency ... OK
- checking replacement functions ... OK
- checking foreign function calls ... OK
- checking R code for possible problems ... [6s/8s] OK
- checking Rd files ... [1s/1s] OK
- checking Rd metadata ... OK
- checking Rd line widths ... OK
- checking Rd cross-references ... OK
- checking for missing documentation entries ... OK
- checking for code/documentation mismatches ... OK
- checking Rd \usage sections ... OK
- checking Rd contents ... OK
- checking for unstated dependencies in examples ... OK
- checking contents of ‘data’ directory ... OK
- checking data for non-ASCII characters ... [0s/0s] OK
- checking LazyData ... OK
- checking data for ASCII and uncompressed saves ... OK
- checking line endings in C/C++/Fortran sources/headers ... OK
- checking pragmas in C/C++ headers and code ... OK
- checking compilation flags used ... OK
- checking compiled code ... OK
- checking examples ... [9s/11s] OK
- checking for unstated dependencies in ‘tests’ ... OK
- checking tests ... [8s/9s] OK
Running ‘testthat.R’ [8s/9s]
- checking PDF version of manual ... [7s/8s] OK
- checking HTML version of manual ... [3s/4s] NOTE
Found the following HTML validation problems:
amv_dim.html:46:1 (amv_dim.Rd:10): Warning: missing </ul> before </div>
as.list.split.html:51:1 (as.list.split.Rd:12): Warning: missing </ul> before </div>
compact.html:46:1 (compact.Rd:10): Warning: missing </ul> before </div>
defaults.html:50:1 (defaults.Rd:12): Warning: missing </ul> before </div>
dims.html:46:1 (dims.Rd:10): Warning: missing </ul> before </div>
empty.html:46:1 (empty.Rd:10): Warning: missing </ul> before </div>
get-split.html:55:1 (get-split.Rd:14): Warning: missing </ul> before </div>
indexed_array.html:51:1 (indexed_array.Rd:15): Warning: missing </ul> before </div>
indexed_df.html:54:1 (indexed_df.Rd:14): Warning: missing </ul> before </div>
join.keys.html:56:1 (join.keys.Rd:15): Warning: missing </ul> before </div>
loop_apply.html:55:1 (loop_apply.Rd:14): Warning: missing </ul> before </div>
nunique.html:46:1 (nunique.Rd:10): Warning: missing </ul> before </div>
print.split.html:51:1 (print.split.Rd:12): Warning: missing </ul> before </div>
quickdf.html:48:1 (quickdf.Rd:10): Warning: missing </ul> before </div>
reduce_dim.html:46:1 (reduce_dim.Rd:10): Warning: missing </ul> before </div>
split_labels.html:50:1 (split_labels.Rd:12): Warning: missing </ul> before </div>
tryapply.html:56:1 (tryapply.Rd:15): Warning: missing </ul> before </div>
unrowname.html:46:1 (unrowname.Rd:10): Warning: missing </ul> before </div>
- checking for non-standard things in the check directory ... OK
- DONE
Status: 1 NOTE