- using R Under development (unstable) (2025-10-19 r88945)
- using platform: x86_64-pc-linux-gnu
- R was compiled by
gcc-15 (Debian 15.2.0-4) 15.2.0
GNU Fortran (Debian 15.2.0-4) 15.2.0
- running under: Debian GNU/Linux forky/sid
- using session charset: UTF-8
- checking for file ‘pls/DESCRIPTION’ ... OK
- this is package ‘pls’ version ‘2.8-5’
- package encoding: UTF-8
- checking CRAN incoming feasibility ... [1s/1s] OK
- checking package namespace information ... OK
- checking package dependencies ... OK
- checking if this is a source package ... OK
- checking if there is a namespace ... OK
- checking for executable files ... OK
- checking for hidden files and directories ... OK
- checking for portable file names ... OK
- checking for sufficient/correct file permissions ... OK
- checking whether package ‘pls’ can be installed ... OK
See the install log for details.
- checking package directory ... OK
- checking for future file timestamps ... OK
- checking ‘build’ directory ... OK
- checking DESCRIPTION meta-information ... OK
- checking top-level files ... NOTE
Found the following validation problem for the NEWS.Rd HTML conversion:
NEWS.html:52:1 (inst/NEWS.Rd:46): Warning: <h4> anchor "Bug-fixes" already defined
NEWS.html:83:1 (inst/NEWS.Rd:61): Warning: <h4> anchor "New-features" already defined
NEWS.html:98:1 (inst/NEWS.Rd:68): Warning: <h4> anchor "New-features" already defined
NEWS.html:113:1 (inst/NEWS.Rd:75): Warning: <h4> anchor "Documentation" already defined
NEWS.html:124:1 (inst/NEWS.Rd:80): Warning: <h4> anchor "New-features" already defined
NEWS.html:158:1 (inst/NEWS.Rd:96): Warning: <h4> anchor "Bug-fixes" already defined
NEWS.html:174:1 (inst/NEWS.Rd:104): Warning: <h4> anchor "Internal-changes" already defined
NEWS.html:189:1 (inst/NEWS.Rd:111): Warning: <h4> anchor "New-features" already defined
NEWS.html:207:1 (inst/NEWS.Rd:121): Warning: <h4> anchor "Internal-changes" already defined
NEWS.html:218:1 (inst/NEWS.Rd:126): Warning: <h4> anchor "Documentation" already defined
NEWS.html:233:1 (inst/NEWS.Rd:133): Warning: <h4> anchor "New-features" already defined
NEWS.html:249:1 (inst/NEWS.Rd:141): Warning: <h4> anchor "Documentation" already defined
NEWS.html:264:1 (inst/NEWS.Rd:148): Warning: <h4> anchor "New-features" already defined
NEWS.html:276:1 (inst/NEWS.Rd:154): Warning: <h4> anchor "Bug-fixes" already defined
NEWS.html:288:1 (inst/NEWS.Rd:160): Warning: <h4> anchor "Internal-changes" already defined
NEWS.html:300:1 (inst/NEWS.Rd:166): Warning: <h4> anchor "Documentation" already defined
NEWS.html:318:1 (inst/NEWS.Rd:174): Warning: <h4> anchor "New-features" already defined
NEWS.html:344:1 (inst/NEWS.Rd:188): Warning: <h4> anchor "Bug-fixes" already defined
NEWS.html:363:1 (inst/NEWS.Rd:197): Warning: <h4> anchor "New-features" already defined
NEWS.html:374:1 (inst/NEWS.Rd:202): Warning: <h4> anchor "Bug-fixes" already defined
NEWS.html:393:1 (inst/NEWS.Rd:211): Warning: <h4> anchor "New-features" already defined
NEWS.html:404:1 (inst/NEWS.Rd:216): Warning: <h4> anchor "User-visible-changes" already defined
NEWS.html:416:1 (inst/NEWS.Rd:222): Warning: <h4> anchor "Bug-fixes" already defined
NEWS.html:435:1 (inst/NEWS.Rd:231): Warning: <h4> anchor "Internal-changes" already defined
NEWS.html:459:1 (inst/NEWS.Rd:241): Warning: <h4> anchor "New-features" already defined
NEWS.html:485:1 (inst/NEWS.Rd:255): Warning: <h4> anchor "User-visible-changes" already defined
NEWS.html:506:1 (inst/NEWS.Rd:266): Warning: <h4> anchor "Bug-fixes" already defined
NEWS.html:522:1 (inst/NEWS.Rd:274): Warning: <h4> anchor "Internal-changes" already defined
NEWS.html:533:1 (inst/NEWS.Rd:279): Warning: <h4> anchor "Documentation" already defined
NEWS.html:549:1 (inst/NEWS.Rd:287): Warning: <h4> anchor "Bug-fixes" already defined
NEWS.html:572:1 (inst/NEWS.Rd:298): Warning: <h4> anchor "New-features" already defined
NEWS.html:595:1 (inst/NEWS.Rd:309): Warning: <h4> anchor "User-visible-changes" already defined
NEWS.html:626:1 (inst/NEWS.Rd:326): Warning: <h4> anchor "Bug-fixes" already defined
NEWS.html:641:1 (inst/NEWS.Rd:333): Warning: <h4> anchor "Internal-changes" already defined
NEWS.html:659:1 (inst/NEWS.Rd:341): Warning: <h4> anchor "New-features" already defined
NEWS.html:670:1 (inst/NEWS.Rd:346): Warning: <h4> anchor "Bug-fixes" already defined
NEWS.html:683:1 (inst/NEWS.Rd:353): Warning: <h4> anchor "User-visible-changes" already defined
NEWS.html:709:1 (inst/NEWS.Rd:365): Warning: <h4> anchor "New-features" already defined
NEWS.html:730:1 (inst/NEWS.Rd:376): Warning: <h4> anchor "Bug-fixes" already defined
NEWS.html:746:1 (inst/NEWS.Rd:384): Warning: <h4> anchor "User-visible-changes" already defined
NEWS.html:758:1 (inst/NEWS.Rd:390): Warning: <h4> anchor "Internal-changes" already defined
NEWS.html:806:1 (inst/NEWS.Rd:414): Warning: <h4> anchor "New-features" already defined
NEWS.html:836:1 (inst/NEWS.Rd:428): Warning: <h4> anchor "User-visible-changes" already defined
NEWS.html:857:1 (inst/NEWS.Rd:439): Warning: <h4> anchor "Internal-changes" already defined
NEWS.html:878:1 (inst/NEWS.Rd:448): Warning: <h4> anchor "Documentation" already defined
- checking for left-over files ... OK
- checking index information ... OK
- checking package subdirectories ... OK
- checking code files for non-ASCII characters ... OK
- checking R files for syntax errors ... OK
- checking whether the package can be loaded ... [0s/0s] OK
- checking whether the package can be loaded with stated dependencies ... [0s/0s] OK
- checking whether the package can be unloaded cleanly ... [0s/0s] OK
- checking whether the namespace can be loaded with stated dependencies ... [0s/0s] OK
- checking whether the namespace can be unloaded cleanly ... [0s/0s] OK
- checking loading without being on the library search path ... [0s/0s] OK
- checking use of S3 registration ... OK
- checking dependencies in R code ... OK
- checking S3 generic/method consistency ... OK
- checking replacement functions ... OK
- checking foreign function calls ... OK
- checking R code for possible problems ... [9s/11s] OK
- checking Rd files ... [1s/1s] OK
- checking Rd metadata ... OK
- checking Rd line widths ... OK
- checking Rd cross-references ... OK
- checking for missing documentation entries ... OK
- checking for code/documentation mismatches ... OK
- checking Rd \usage sections ... OK
- checking Rd contents ... OK
- checking for unstated dependencies in examples ... OK
- checking contents of ‘data’ directory ... OK
- checking data for non-ASCII characters ... [0s/0s] OK
- checking LazyData ... OK
- checking data for ASCII and uncompressed saves ... OK
- checking sizes of PDF files under ‘inst/doc’ ... OK
- checking installed files from ‘inst/doc’ ... OK
- checking files in ‘vignettes’ ... OK
- checking examples ... [1s/1s] OK
- checking for unstated dependencies in ‘tests’ ... OK
- checking tests ... [6s/9s] OK
Running ‘test_import.R’ [0s/0s]
Running ‘test_library.R’ [4s/7s]
Running ‘testthat.R’ [1s/1s]
- checking for unstated dependencies in vignettes ... OK
- checking package vignettes ... OK
- checking re-building of vignette outputs ... [5s/7s] OK
- checking PDF version of manual ... [7s/8s] OK
- checking HTML version of manual ... [3s/4s] OK
- checking for non-standard things in the check directory ... OK
- DONE
Status: 1 NOTE