- using R Under development (unstable) (2024-04-14 r86421)
- using platform: x86_64-pc-linux-gnu
- R was compiled by
gcc-13 (Debian 13.2.0-13) 13.2.0
GNU Fortran (Debian 13.2.0-13) 13.2.0
- running under: Debian GNU/Linux trixie/sid
- using session charset: UTF-8
- checking for file ‘netmeta/DESCRIPTION’ ... OK
- this is package ‘netmeta’ version ‘2.9-0’
- package encoding: UTF-8
- checking package namespace information ... OK
- checking package dependencies ... OK
- checking if this is a source package ... OK
- checking if there is a namespace ... OK
- checking for executable files ... OK
- checking for hidden files and directories ... OK
- checking for portable file names ... OK
- checking for sufficient/correct file permissions ... OK
- checking whether package ‘netmeta’ can be installed ... OK
See the install log for details.
- checking package directory ... OK
- checking for future file timestamps ... OK
- checking ‘build’ directory ... OK
- checking DESCRIPTION meta-information ... OK
- checking top-level files ... OK
- checking for left-over files ... OK
- checking index information ... OK
- checking package subdirectories ... OK
- checking code files for non-ASCII characters ... OK
- checking R files for syntax errors ... OK
- checking whether the package can be loaded ... [3s/5s] OK
- checking whether the package can be loaded with stated dependencies ... [3s/5s] OK
- checking whether the package can be unloaded cleanly ... [3s/5s] OK
- checking whether the namespace can be loaded with stated dependencies ... [3s/4s] OK
- checking whether the namespace can be unloaded cleanly ... [3s/6s] OK
- checking loading without being on the library search path ... [3s/6s] OK
- checking whether startup messages can be suppressed ... [3s/6s] OK
- checking use of S3 registration ... OK
- checking dependencies in R code ... OK
- checking S3 generic/method consistency ... OK
- checking replacement functions ... OK
- checking foreign function calls ... OK
- checking R code for possible problems ... [78s/119s] OK
- checking Rd files ... [1s/3s] OK
- checking Rd metadata ... OK
- checking Rd line widths ... OK
- checking Rd cross-references ... OK
- checking for missing documentation entries ... OK
- checking for code/documentation mismatches ... OK
- checking Rd \usage sections ... OK
- checking Rd contents ... OK
- checking for unstated dependencies in examples ... OK
- checking contents of ‘data’ directory ... OK
- checking data for non-ASCII characters ... [0s/1s] OK
- checking data for ASCII and uncompressed saves ... OK
- checking sizes of PDF files under ‘inst/doc’ ... OK
- checking installed files from ‘inst/doc’ ... OK
- checking files in ‘vignettes’ ... OK
- checking examples ... [265s/423s] OK
Examples with CPU (user + system) or elapsed time > 5s
user system elapsed
Gurusamy2011 8.936 0.267 13.419
Dong2013 7.113 0.284 11.133
netmetabin 6.819 0.011 10.557
netpairwise 6.405 0.024 8.135
plot.rankogram 6.285 0.031 9.242
netmeasures 6.165 0.019 9.630
forest.netmeta 6.045 0.048 10.377
netdistance 5.830 0.074 8.474
treats 5.813 0.024 10.706
smokingcessation 5.823 0.012 10.427
netrank 5.720 0.072 9.478
summary.netmeta 5.756 0.020 9.006
netmatrix 5.689 0.042 8.075
invmat 5.692 0.016 9.141
netmeta 5.691 0.016 8.223
as.data.frame.netmeta 5.630 0.013 10.405
netgraph.netmeta 5.591 0.051 8.364
netgraph 5.575 0.011 9.310
print.summary.netmeta 5.572 0.012 9.068
forest.netbind 5.457 0.063 9.155
netbind 5.449 0.005 9.916
forest.netcomparison 5.321 0.031 9.475
forest.netcomplex 5.227 0.015 7.797
netcomb 5.061 0.043 7.559
Franchini2012 4.963 0.089 7.783
netgraph.netimpact 4.767 0.003 7.410
print.netimpact 4.722 0.008 8.135
netimpact 4.694 0.000 6.816
forest.netcomb 4.641 0.012 8.671
netcontrib 4.568 0.012 8.374
summary.netcomb 4.459 0.070 7.615
rankogram 4.483 0.004 7.847
netcomplex 4.382 0.004 7.039
print.netcomb 4.350 0.023 6.460
netcomparison 4.349 0.008 6.490
dietaryfat 4.318 0.016 7.595
print.summary.netcomb 4.310 0.005 7.684
print.netbind 4.292 0.008 7.303
Linde2016 4.200 0.018 7.578
netgraph.netcomb 4.157 0.012 6.039
netheat 4.050 0.012 6.109
decomp.design 3.799 0.020 5.477
nettable 3.795 0.012 5.347
print.decomp.design 3.787 0.004 5.452
netsplit 3.755 0.023 6.430
Woods2010 3.642 0.037 7.165
netleague 3.671 0.000 5.646
Stowe2010 3.544 0.012 6.365
heatplot 3.065 0.019 5.123
hatmatrix 2.987 0.000 5.099
- checking for unstated dependencies in vignettes ... OK
- checking package vignettes ... OK
- checking re-building of vignette outputs ... [1s/1s] OK
- checking PDF version of manual ... [12s/26s] OK
- checking HTML version of manual ... [7s/14s] OK
- checking for non-standard things in the check directory ... OK
- DONE
Status: OK