- using R Under development (unstable) (2018-04-24 r74637)
- using platform: x86_64-pc-linux-gnu (64-bit)
- using session charset: UTF-8
- checking for file ‘datamap/DESCRIPTION’ ... OK
- checking extension type ... Package
- this is package ‘datamap’ version ‘0.1-1’
- checking package namespace information ... OK
- checking package dependencies ... OK
- checking if this is a source package ... OK
- checking if there is a namespace ... OK
- checking for executable files ... OK
- checking for hidden files and directories ... OK
- checking for portable file names ... OK
- checking for sufficient/correct file permissions ... OK
- checking serialization versions ... OK
- checking whether package ‘datamap’ can be installed ... OK
- checking package directory ... OK
- checking DESCRIPTION meta-information ... OK
- checking top-level files ... OK
- checking for left-over files ... OK
- checking index information ... OK
- checking package subdirectories ... OK
- checking R files for non-ASCII characters ... OK
- checking R files for syntax errors ... OK
- checking whether the package can be loaded ... OK
- checking whether the package can be loaded with stated dependencies ... OK
- checking whether the package can be unloaded cleanly ... OK
- checking whether the namespace can be loaded with stated dependencies ... OK
- checking whether the namespace can be unloaded cleanly ... OK
- checking loading without being on the library search path ... OK
- checking use of S3 registration ... OK
- checking dependencies in R code ... NOTE
Package in Depends field not imported from: ‘DBI’
These packages need to be imported from (in the NAMESPACE file)
for when this namespace is loaded but not attached.
- checking S3 generic/method consistency ... OK
- checking replacement functions ... OK
- checking foreign function calls ... OK
- checking R code for possible problems ... [3s/6s] NOTE
.onLoad : <anonymous>: no visible global function definition for
‘read.table’
.onLoad : <anonymous>: no visible global function definition for
‘dbConnect’
.onLoad : <anonymous>: no visible global function definition for
‘dbListTables’
.onLoad : <anonymous>: no visible global function definition for
‘dbExistsTable’
.onLoad : <anonymous>: no visible global function definition for
‘dbReadTable’
.onLoad : <anonymous>: no visible global function definition for
‘dbWriteTable’
.onLoad : <anonymous>: no visible global function definition for
‘dbDisconnect’
.onLoad : <anonymous>: no visible global function definition for
‘dbRemoveTable’
Undefined global functions or variables:
dbConnect dbDisconnect dbExistsTable dbListTables dbReadTable
dbRemoveTable dbWriteTable read.table
Consider adding
importFrom("utils", "read.table")
to your NAMESPACE file.
Found the following calls to attach():
File ‘datamap/R/datamap.R’:
attach(.Call("CreateUserDB", map, PACKAGE = "datamap"), pos,
name, warn.conflicts)
See section ‘Good practice’ in ‘?attach’.
- checking Rd files ... OK
- checking Rd metadata ... OK
- checking Rd line widths ... OK
- checking Rd cross-references ... OK
- checking for missing documentation entries ... OK
- checking for code/documentation mismatches ... OK
- checking Rd \usage sections ... OK
- checking Rd contents ... OK
- checking for unstated dependencies in examples ... OK
- checking line endings in C/C++/Fortran sources/headers ... OK
- checking pragmas in C/C++ headers and code ... OK
- checking compilation flags used ... OK
- checking compiled code ... NOTE
File ‘datamap/libs/datamap.so’:
Found no calls to: ‘R_registerRoutines’, ‘R_useDynamicSymbols’
It is good practice to register native routines and to disable symbol
search.
See ‘Writing portable packages’ in the ‘Writing R Extensions’ manual.
- checking examples ... [1s/1s] OK
- checking for unstated dependencies in ‘tests’ ... OK
- checking tests ... [1s/1s] OK
Running ‘full.R’ [0s/1s]
Comparing ‘full.Rout’ to ‘full.Rout.save’ ...47c47
< [1] ".map" "assign" "finalize" "foo" "get" "init" "len"
---
> [1] "assign" "finalize" "foo" "get" "init" "len" ".map"
68c68
< [1] ".map" "assign" "finalize" "foo" "get" "init" "len"
---
> [1] "assign" "finalize" "foo" "get" "init" "len" ".map"
- checking PDF version of manual ... OK
- DONE
Status: 3 NOTEs