- using R Under development (unstable) (2023-03-26 r84066)
- using platform: x86_64-pc-linux-gnu (64-bit)
- R was compiled by
gcc-12 (Debian 12.2.0-14) 12.2.0
GNU Fortran (Debian 12.2.0-14) 12.2.0
- running under: Debian GNU/Linux 12 (bookworm)
- using session charset: UTF-8
- checking for file ‘biomod2/DESCRIPTION’ ... OK
- checking extension type ... Package
- this is package ‘biomod2’ version ‘4.2-2’
- package encoding: UTF-8
- checking package namespace information ... OK
- checking package dependencies ... OK
- checking if this is a source package ... OK
- checking if there is a namespace ... OK
- checking for executable files ... OK
- checking for hidden files and directories ... OK
- checking for portable file names ... OK
- checking for sufficient/correct file permissions ... OK
- checking whether package ‘biomod2’ can be installed ... OK
- checking package directory ... OK
- checking for future file timestamps ... OK
- checking ‘build’ directory ... OK
- checking DESCRIPTION meta-information ... OK
- checking top-level files ... OK
- checking for left-over files ... OK
- checking index information ... OK
- checking package subdirectories ... OK
- checking R files for non-ASCII characters ... OK
- checking R files for syntax errors ... OK
- checking whether the package can be loaded ... [10s/16s] OK
- checking whether the package can be loaded with stated dependencies ... [9s/16s] OK
- checking whether the package can be unloaded cleanly ... [9s/15s] OK
- checking whether the namespace can be loaded with stated dependencies ... [9s/15s] OK
- checking whether the namespace can be unloaded cleanly ... [10s/16s] OK
- checking loading without being on the library search path ... [10s/16s] OK
- checking startup messages can be suppressed ... [10s/15s] OK
- checking use of S3 registration ... OK
- checking dependencies in R code ... OK
- checking S3 generic/method consistency ... OK
- checking replacement functions ... OK
- checking foreign function calls ... OK
- checking R code for possible problems ... [68s/111s] OK
- checking Rd files ... [1s/3s] OK
- checking Rd metadata ... OK
- checking Rd line widths ... OK
- checking Rd cross-references ... OK
- checking for missing documentation entries ... OK
- checking for code/documentation mismatches ... OK
- checking Rd \usage sections ... OK
- checking Rd contents ... OK
- checking for unstated dependencies in examples ... OK
- checking contents of ‘data’ directory ... OK
- checking data for non-ASCII characters ... [7s/13s] OK
- checking LazyData ... OK
- checking data for ASCII and uncompressed saves ... OK
- checking installed files from ‘inst/doc’ ... OK
- checking files in ‘vignettes’ ... OK
- checking examples ... [68s/115s] OK
Examples with CPU (user + system) or elapsed time > 5s
user system elapsed
BIOMOD_RangeSize 6.414 0.068 11.283
bm_PlotRangeSize 6.196 0.048 9.775
BIOMOD.ensemble.models.out 4.993 0.116 9.196
BIOMOD_CrossValidation 4.872 0.190 9.040
BIOMOD_Modeling 3.991 0.024 5.547
bm_PlotVarImpBoxplot 3.346 0.044 5.397
bm_PlotResponseCurves 3.307 0.063 5.920
BIOMOD.projection.out 3.192 0.044 6.458
BIOMOD.formated.data.PA 2.979 0.057 5.298
- checking for unstated dependencies in vignettes ... OK
- checking package vignettes in ‘inst/doc’ ... OK
- checking re-building of vignette outputs ... [3s/5s] OK
- checking PDF version of manual ... [14s/28s] OK
- checking HTML version of manual ... [8s/16s] OK
- checking for non-standard things in the check directory ... OK
- DONE
Status: OK