- using R Under development (unstable) (2018-04-25 r74642)
- using platform: x86_64-pc-linux-gnu (64-bit)
- using session charset: UTF-8
- checking for file ‘SEL/DESCRIPTION’ ... OK
- checking extension type ... Package
- this is package ‘SEL’ version ‘1.0-2’
- checking package namespace information ... OK
- checking package dependencies ... OK
- checking if this is a source package ... OK
- checking if there is a namespace ... OK
- checking for executable files ... OK
- checking for hidden files and directories ... OK
- checking for portable file names ... OK
- checking for sufficient/correct file permissions ... OK
- checking serialization versions ... OK
- checking whether package ‘SEL’ can be installed ... OK
- checking package directory ... OK
- checking DESCRIPTION meta-information ... OK
- checking top-level files ... OK
- checking for left-over files ... OK
- checking index information ... OK
- checking package subdirectories ... OK
- checking R files for non-ASCII characters ... OK
- checking R files for syntax errors ... OK
- checking whether the package can be loaded ... OK
- checking whether the package can be loaded with stated dependencies ... OK
- checking whether the package can be unloaded cleanly ... OK
- checking whether the namespace can be loaded with stated dependencies ... OK
- checking whether the namespace can be unloaded cleanly ... OK
- checking loading without being on the library search path ... OK
- checking use of S3 registration ... OK
- checking dependencies in R code ... OK
- checking S3 generic/method consistency ... OK
- checking replacement functions ... OK
- checking foreign function calls ... OK
- checking R code for possible problems ... [4s/7s] NOTE
predict.SEL: warning in splineDesign(newdata, knots = knts, ord =
object$nord, deriv = rep(deriv, length(newdata)), outer.ok = TRUE):
partial argument match of ‘deriv’ to ‘derivs’
getbinPost: no visible binding for global variable ‘dbeta’
getbinPost: no visible binding for global variable ‘pbeta’
getbinPost : fu: no visible global function definition for ‘dbinom’
getbinPost : fu: no visible global function definition for ‘predict’
getbinPost: no visible global function definition for ‘integrate’
getbinPost: no visible global function definition for ‘splinefun’
int.funct: no visible global function definition for ‘integrate’
int.funct2: no visible global function definition for ‘integrate’
min.abs: no visible global function definition for ‘uniroot’
plot.SEL: no visible global function definition for ‘plot’
print.SEL: no visible global function definition for ‘integrate’
print.summary.SEL : foo1: no visible global function definition for
‘predict’
print.summary.SEL : foo2: no visible global function definition for
‘predict’
print.summary.SEL: no visible global function definition for
‘integrate’
quantSEL: no visible global function definition for ‘predict’
quantSEL: no visible global function definition for ‘splinefun’
rvSEL: no visible global function definition for ‘runif’
Undefined global functions or variables:
dbeta dbinom integrate pbeta plot predict runif splinefun uniroot
Consider adding
importFrom("graphics", "plot")
importFrom("stats", "dbeta", "dbinom", "integrate", "pbeta", "predict",
"runif", "splinefun", "uniroot")
to your NAMESPACE file.
- checking Rd files ... OK
- checking Rd metadata ... OK
- checking Rd line widths ... OK
- checking Rd cross-references ... OK
- checking for missing documentation entries ... OK
- checking for code/documentation mismatches ... OK
- checking Rd \usage sections ... OK
- checking Rd contents ... OK
- checking for unstated dependencies in examples ... OK
- checking line endings in C/C++/Fortran sources/headers ... OK
- checking pragmas in C/C++ headers and code ... OK
- checking compilation flags used ... OK
- checking compiled code ... NOTE
File ‘SEL/libs/SEL.so’:
Found no calls to: ‘R_registerRoutines’, ‘R_useDynamicSymbols’
It is good practice to register native routines and to disable symbol
search.
See ‘Writing portable packages’ in the ‘Writing R Extensions’ manual.
- checking examples ... [3s/4s] OK
- checking for unstated dependencies in ‘tests’ ... OK
- checking tests ... [1s/1s] OK
Running ‘SELtests.R’ [1s/1s]
- checking PDF version of manual ... OK
- DONE
Status: 2 NOTEs