- using R Under development (unstable) (2024-04-29 r86495)
- using platform: x86_64-pc-linux-gnu
- R was compiled by
gcc-13 (Debian 13.2.0-23) 13.2.0
GNU Fortran (Debian 13.2.0-23) 13.2.0
- running under: Debian GNU/Linux trixie/sid
- using session charset: UTF-8
- checking for file ‘RobustCalibration/DESCRIPTION’ ... OK
- checking extension type ... Package
- this is package ‘RobustCalibration’ version ‘0.5.4’
- checking package namespace information ... OK
- checking package dependencies ... OK
- checking if this is a source package ... OK
- checking if there is a namespace ... OK
- checking for executable files ... OK
- checking for hidden files and directories ... OK
- checking for portable file names ... OK
- checking for sufficient/correct file permissions ... OK
- checking serialization versions ... OK
- checking whether package ‘RobustCalibration’ can be installed ... OK
See the install log for details.
- used C compiler: ‘gcc-13 (Debian 13.2.0-23) 13.2.0’
- used C++ compiler: ‘g++-13 (Debian 13.2.0-23) 13.2.0’
- checking package directory ... OK
- checking for future file timestamps ... OK
- checking DESCRIPTION meta-information ... OK
- checking top-level files ... OK
- checking for left-over files ... OK
- checking index information ... OK
- checking package subdirectories ... OK
- checking code files for non-ASCII characters ... OK
- checking R files for syntax errors ... OK
- checking whether the package can be loaded ... [0s/1s] OK
- checking whether the package can be loaded with stated dependencies ... [0s/1s] OK
- checking whether the package can be unloaded cleanly ... [0s/1s] OK
- checking whether the namespace can be loaded with stated dependencies ... [0s/1s] OK
- checking whether the namespace can be unloaded cleanly ... [0s/1s] OK
- checking loading without being on the library search path ... [0s/1s] OK
- checking whether startup messages can be suppressed ... [0s/1s] OK
- checking use of S3 registration ... OK
- checking dependencies in R code ... OK
- checking S3 generic/method consistency ... OK
- checking replacement functions ... OK
- checking foreign function calls ... OK
- checking R code for possible problems ... [17s/25s] OK
- checking Rd files ... [1s/1s] NOTE
checkRd: (-1) rcalibration_MS-class.Rd:21: Lost braces; missing escapes or markup?
21 | \item{\code{input}:}{Object of class \code{list}. Each element is a \code{matrix} of the design of experiments in each source with dimension n_i x p_{x,i}, for i=1,...,num_sources.}
| ^
checkRd: (-1) separable_kernel.Rd:26: Lost braces
26 | A vector specifying the type of kernels of each coordinate of the input. \code{matern_3_2} and \code{matern_5_2} are \code{Matern correlation} with roughness parameter 3/2 and 5/2 respectively. \code{pow_exp} is power exponential correlation with roughness parameter alpha. If \code{pow_exp} is to be used, one needs to specify its roughness parameter alpha. The default choice is \code{matern_5_2}. The \code{periodic_gauss} means the Gaussian kernel with periodic folding method with be used. The code{periodic_exp} means the exponential kernel with periodic folding method will be used.
| ^
- checking Rd metadata ... OK
- checking Rd line widths ... OK
- checking Rd cross-references ... OK
- checking for missing documentation entries ... OK
- checking for code/documentation mismatches ... OK
- checking Rd \usage sections ... OK
- checking Rd contents ... OK
- checking for unstated dependencies in examples ... OK
- checking line endings in C/C++/Fortran sources/headers ... OK
- checking pragmas in C/C++ headers and code ... OK
- checking compilation flags used ... OK
- checking compiled code ... OK
- checking examples ... [21s/32s] OK
Examples with CPU (user + system) or elapsed time > 5s
user system elapsed
predict.rcalibration 4.135 0.016 6.321
rcalibration_MS 3.629 0.008 5.366
- checking PDF version of manual ... [6s/14s] OK
- checking HTML version of manual ... [2s/4s] OK
- checking for non-standard things in the check directory ... OK
- DONE
Status: 1 NOTE