- using R Under development (unstable) (2018-04-18 r74618)
- using platform: x86_64-pc-linux-gnu (64-bit)
- using session charset: UTF-8
- checking for file ‘CRTSize/DESCRIPTION’ ... OK
- this is package ‘CRTSize’ version ‘1.0’
- checking package namespace information ... OK
- checking package dependencies ... OK
- checking if this is a source package ... OK
- checking if there is a namespace ... OK
- checking for executable files ... OK
- checking for hidden files and directories ... OK
- checking for portable file names ... OK
- checking for sufficient/correct file permissions ... OK
- checking serialization versions ... OK
- checking whether package ‘CRTSize’ can be installed ... OK
- checking package directory ... OK
- checking DESCRIPTION meta-information ... OK
- checking top-level files ... OK
- checking for left-over files ... OK
- checking index information ... OK
- checking package subdirectories ... OK
- checking R files for non-ASCII characters ... OK
- checking R files for syntax errors ... OK
- checking whether the package can be loaded ... OK
- checking whether the package can be loaded with stated dependencies ... OK
- checking whether the package can be unloaded cleanly ... OK
- checking whether the namespace can be loaded with stated dependencies ... OK
- checking whether the namespace can be unloaded cleanly ... OK
- checking loading without being on the library search path ... OK
- checking use of S3 registration ... OK
- checking dependencies in R code ... OK
- checking S3 generic/method consistency ... OK
- checking replacement functions ... OK
- checking foreign function calls ... OK
- checking R code for possible problems ... [6s/12s] NOTE
.mvrnorm: no visible global function definition for ‘rnorm’
.oneCRTBinary: no visible global function definition for ‘rnorm’
.oneCRTBinary: no visible global function definition for ‘rbinom’
.oneCRTCTS: no visible global function definition for ‘rnorm’
fixedMetaAnalMD: no visible global function definition for ‘qnorm’
fixedMetaAnalRROR: no visible global function definition for ‘qnorm’
n4incidence: no visible global function definition for ‘qnorm’
n4incidence: no visible global function definition for ‘qt’
n4means: no visible global function definition for ‘qnorm’
n4means: no visible global function definition for ‘qt’
n4meansEB: no visible global function definition for ‘qnorm’
n4meansEB: no visible global function definition for ‘density’
n4meansEB: no visible global function definition for ‘var’
n4meansEB: no visible global function definition for ‘hist’
n4meansEB: no visible global function definition for ‘par’
n4meansMeta: no visible global function definition for ‘rnorm’
n4meansMeta: no visible global function definition for ‘runif’
n4meansMeta: no visible global function definition for ‘sd’
n4meansMeta: no visible global function definition for ‘density’
n4props: no visible global function definition for ‘qnorm’
n4props: no visible global function definition for ‘qt’
n4propsEB: no visible global function definition for ‘qnorm’
n4propsEB: no visible global function definition for ‘density’
n4propsEB: no visible global function definition for ‘var’
n4propsEB: no visible global function definition for ‘hist’
n4propsEB: no visible global function definition for ‘par’
n4propsMeta: no visible global function definition for ‘rnorm’
n4propsMeta: no visible global function definition for ‘runif’
n4propsMeta: no visible global function definition for ‘sd’
n4propsMeta: no visible global function definition for ‘density’
print.n4meansEB: no visible global function definition for ‘quantile’
print.n4propsEB: no visible global function definition for ‘quantile’
summary.n4meansEB: no visible global function definition for ‘quantile’
summary.n4propsEB: no visible global function definition for ‘quantile’
Undefined global functions or variables:
density hist par qnorm qt quantile rbinom rnorm runif sd var
Consider adding
importFrom("graphics", "hist", "par")
importFrom("stats", "density", "qnorm", "qt", "quantile", "rbinom",
"rnorm", "runif", "sd", "var")
to your NAMESPACE file.
- checking Rd files ... OK
- checking Rd metadata ... OK
- checking Rd line widths ... OK
- checking Rd cross-references ... OK
- checking for missing documentation entries ... OK
- checking for code/documentation mismatches ... OK
- checking Rd \usage sections ... OK
- checking Rd contents ... OK
- checking for unstated dependencies in examples ... OK
- checking examples ... [3s/4s] OK
- checking PDF version of manual ... OK
- DONE
Status: 1 NOTE