- using R Under development (unstable) (2024-04-29 r86495)
- using platform: x86_64-pc-linux-gnu
- R was compiled by
gcc-13 (Debian 13.2.0-23) 13.2.0
GNU Fortran (Debian 13.2.0-23) 13.2.0
- running under: Debian GNU/Linux trixie/sid
- using session charset: UTF-8
- checking for file ‘AIUQ/DESCRIPTION’ ... OK
- checking extension type ... Package
- this is package ‘AIUQ’ version ‘0.5.1’
- package encoding: UTF-8
- checking package namespace information ... OK
- checking package dependencies ... OK
- checking if this is a source package ... OK
- checking if there is a namespace ... OK
- checking for executable files ... OK
- checking for hidden files and directories ... OK
- checking for portable file names ... OK
- checking for sufficient/correct file permissions ... OK
- checking serialization versions ... OK
- checking whether package ‘AIUQ’ can be installed ... OK
See the install log for details.
- checking package directory ... OK
- checking for future file timestamps ... OK
- checking DESCRIPTION meta-information ... OK
- checking top-level files ... OK
- checking for left-over files ... OK
- checking index information ... OK
- checking package subdirectories ... OK
- checking code files for non-ASCII characters ... OK
- checking R files for syntax errors ... OK
- checking whether the package can be loaded ... [0s/1s] OK
- checking whether the package can be loaded with stated dependencies ... [0s/1s] OK
- checking whether the package can be unloaded cleanly ... [0s/1s] OK
- checking whether the namespace can be loaded with stated dependencies ... [0s/1s] OK
- checking whether the namespace can be unloaded cleanly ... [0s/1s] OK
- checking loading without being on the library search path ... [0s/1s] OK
- checking use of S3 registration ... OK
- checking dependencies in R code ... OK
- checking S3 generic/method consistency ... OK
- checking replacement functions ... OK
- checking foreign function calls ... OK
- checking R code for possible problems ... [22s/38s] OK
- checking Rd files ... [1s/2s] OK
- checking Rd metadata ... OK
- checking Rd line widths ... OK
- checking Rd cross-references ... OK
- checking for missing documentation entries ... OK
- checking for code/documentation mismatches ... OK
- checking Rd \usage sections ... OK
- checking Rd contents ... OK
- checking for unstated dependencies in examples ... OK
- checking examples ... [77s/141s] OK
Examples with CPU (user + system) or elapsed time > 5s
user system elapsed
get_isf 8.423 0.413 16.228
get_dqt 8.409 0.314 16.185
SAM 8.045 0.477 16.470
show.sam 7.638 0.306 13.713
modeled_dqt 7.490 0.316 13.511
modeled_isf 7.554 0.205 13.910
aniso_SAM 7.453 0.200 13.626
aniso_simulation 4.043 0.226 8.951
plot_MSD 4.070 0.191 8.843
show.aniso_sam 4.061 0.115 7.235
simulation 3.401 0.138 5.379
- checking PDF version of manual ... [7s/15s] OK
- checking HTML version of manual ... [3s/6s] OK
- checking for non-standard things in the check directory ... OK
- DONE
Status: OK