- using R Under development (unstable) (2024-04-29 r86495)
- using platform: x86_64-pc-linux-gnu
- R was compiled by
Debian clang version 18.1.4 (1)
Debian flang-new version 18.1.4 (1)
- running under: Debian GNU/Linux trixie/sid
- using session charset: UTF-8
- checking for file ‘npboottprm/DESCRIPTION’ ... OK
- this is package ‘npboottprm’ version ‘0.2.1’
- package encoding: UTF-8
- checking package namespace information ... OK
- checking package dependencies ... OK
- checking if this is a source package ... OK
- checking if there is a namespace ... OK
- checking for executable files ... OK
- checking for hidden files and directories ... OK
- checking for portable file names ... OK
- checking for sufficient/correct file permissions ... OK
- checking serialization versions ... OK
- checking whether package ‘npboottprm’ can be installed ... OK
See the install log for details.
- checking package directory ... OK
- checking for future file timestamps ... OK
- checking DESCRIPTION meta-information ... OK
- checking top-level files ... OK
- checking for left-over files ... OK
- checking index information ... OK
- checking package subdirectories ... OK
- checking code files for non-ASCII characters ... OK
- checking R files for syntax errors ... OK
- checking whether the package can be loaded ... [0s/0s] OK
- checking whether the package can be loaded with stated dependencies ... [0s/0s] OK
- checking whether the package can be unloaded cleanly ... [0s/0s] OK
- checking whether the namespace can be loaded with stated dependencies ... [0s/0s] OK
- checking whether the namespace can be unloaded cleanly ... [0s/1s] OK
- checking loading without being on the library search path ... [0s/1s] OK
- checking use of S3 registration ... OK
- checking dependencies in R code ... OK
- checking S3 generic/method consistency ... OK
- checking replacement functions ... OK
- checking foreign function calls ... OK
- checking R code for possible problems ... [10s/13s] OK
- checking Rd files ... [1s/1s] OK
- checking Rd metadata ... OK
- checking Rd line widths ... OK
- checking Rd cross-references ... OK
- checking for missing documentation entries ... OK
- checking for code/documentation mismatches ... OK
- checking Rd \usage sections ... OK
- checking Rd contents ... OK
- checking for unstated dependencies in examples ... OK
- checking contents of ‘data’ directory ... OK
- checking data for non-ASCII characters ... [0s/1s] OK
- checking LazyData ... OK
- checking data for ASCII and uncompressed saves ... OK
- checking examples ... [141s/168s] OK
Examples with CPU (user + system) or elapsed time > 5s
user system elapsed
replext_t2_c1.1 7.482 0.489 10.301
nonparboot 5.803 0.016 6.587
replext_ts2_c4.1 5.543 0.067 7.313
replext_ts2_c3.2 5.400 0.056 6.916
replext_ts2_c2.1 5.349 0.047 6.132
replext_ts3_c3.1 5.387 0.004 7.839
replext_ts3_c2.2 5.384 0.000 7.136
replext_ts2_c2.2 5.346 0.014 6.521
replext_ts2_c4.2 5.290 0.027 6.283
replext_ts2_c1.1 5.306 0.008 5.766
replext_ts2_c1.2 5.297 0.001 6.011
replext_ts2_c3.1 5.297 0.000 5.843
replext_ts3_c2.1 5.225 0.070 6.312
replext_ts3_c3.2 5.269 0.020 6.224
replext_ts3_c4.1 5.255 0.004 7.329
replext_ts3_c1.1 5.236 0.004 6.039
replext_ts3_c4.2 5.207 0.000 6.387
replext_ts3_c1.2 5.162 0.000 6.179
replext_t2_c2.1 3.920 0.192 5.323
- checking for unstated dependencies in ‘tests’ ... OK
- checking tests ... [76s/96s] OK
Running ‘testthat.R’ [76s/95s]
- checking PDF version of manual ... [10s/13s] OK
- checking HTML version of manual ... [4s/8s] OK
- checking for non-standard things in the check directory ... OK
- DONE
Status: OK