- using R Under development (unstable) (2024-04-21 r86458)
- using platform: x86_64-pc-linux-gnu
- R was compiled by
Debian clang version 18.1.0 (rc4-1)
Debian flang-new version 18.1.0 (rc4-1)
- running under: Debian GNU/Linux trixie/sid
- using session charset: UTF-8
- checking for file ‘netmeta/DESCRIPTION’ ... OK
- this is package ‘netmeta’ version ‘2.9-0’
- package encoding: UTF-8
- checking package namespace information ... OK
- checking package dependencies ... OK
- checking if this is a source package ... OK
- checking if there is a namespace ... OK
- checking for executable files ... OK
- checking for hidden files and directories ... OK
- checking for portable file names ... OK
- checking for sufficient/correct file permissions ... OK
- checking whether package ‘netmeta’ can be installed ... OK
See the install log for details.
- checking package directory ... OK
- checking for future file timestamps ... OK
- checking ‘build’ directory ... OK
- checking DESCRIPTION meta-information ... OK
- checking top-level files ... OK
- checking for left-over files ... OK
- checking index information ... OK
- checking package subdirectories ... OK
- checking code files for non-ASCII characters ... OK
- checking R files for syntax errors ... OK
- checking whether the package can be loaded ... [5s/5s] OK
- checking whether the package can be loaded with stated dependencies ... [4s/4s] OK
- checking whether the package can be unloaded cleanly ... [4s/5s] OK
- checking whether the namespace can be loaded with stated dependencies ... [4s/4s] OK
- checking whether the namespace can be unloaded cleanly ... [5s/6s] OK
- checking loading without being on the library search path ... [5s/6s] OK
- checking whether startup messages can be suppressed ... [5s/6s] OK
- checking use of S3 registration ... OK
- checking dependencies in R code ... OK
- checking S3 generic/method consistency ... OK
- checking replacement functions ... OK
- checking foreign function calls ... OK
- checking R code for possible problems ... [119s/138s] OK
- checking Rd files ... [2s/3s] OK
- checking Rd metadata ... OK
- checking Rd line widths ... OK
- checking Rd cross-references ... OK
- checking for missing documentation entries ... OK
- checking for code/documentation mismatches ... OK
- checking Rd \usage sections ... OK
- checking Rd contents ... OK
- checking for unstated dependencies in examples ... OK
- checking contents of ‘data’ directory ... OK
- checking data for non-ASCII characters ... [0s/1s] OK
- checking data for ASCII and uncompressed saves ... OK
- checking sizes of PDF files under ‘inst/doc’ ... OK
- checking installed files from ‘inst/doc’ ... OK
- checking files in ‘vignettes’ ... OK
- checking examples ... [362s/423s] OK
Examples with CPU (user + system) or elapsed time > 5s
user system elapsed
Gurusamy2011 12.168 0.336 13.707
Dong2013 9.375 0.278 11.113
netmetabin 9.375 0.090 10.565
netmeasures 8.837 0.019 9.736
netpairwise 8.783 0.024 9.456
plot.rankogram 8.489 0.024 10.240
forest.netmeta 8.258 0.005 10.890
smokingcessation 7.982 0.044 9.750
treats 8.003 0.012 9.411
summary.netmeta 7.936 0.012 10.039
invmat 7.869 0.036 9.955
netrank 7.872 0.016 9.234
print.summary.netmeta 7.835 0.016 8.906
netmeta 7.821 0.001 9.130
netgraph.netmeta 7.768 0.051 9.014
as.data.frame.netmeta 7.678 0.032 8.049
netmatrix 7.628 0.036 8.606
netdistance 7.616 0.035 8.509
netgraph 7.616 0.008 9.188
netbind 7.485 0.008 9.222
forest.netbind 7.396 0.017 9.499
forest.netcomparison 7.322 0.004 9.454
forest.netcomplex 7.216 0.062 9.426
netcomb 6.836 0.000 8.011
Franchini2012 6.609 0.160 7.030
netgraph.netimpact 6.634 0.031 8.490
netcontrib 6.608 0.028 7.863
netimpact 6.578 0.007 8.032
print.netimpact 6.377 0.075 6.773
forest.netcomb 6.314 0.091 7.972
rankogram 6.145 0.003 6.927
summary.netcomb 6.062 0.020 7.120
netcomparison 5.992 0.071 7.621
dietaryfat 6.021 0.038 8.009
netcomplex 6.026 0.007 7.224
print.netcomb 5.856 0.011 7.125
print.summary.netcomb 5.797 0.020 6.244
netgraph.netcomb 5.796 0.008 7.657
print.netbind 5.730 0.009 6.481
Linde2016 5.671 0.040 6.208
netheat 5.581 0.012 7.023
nettable 5.222 0.015 6.191
decomp.design 5.097 0.040 5.251
print.decomp.design 5.098 0.007 5.768
forest.netsplit 5.033 0.063 5.395
netleague 5.051 0.024 5.493
Woods2010 4.968 0.032 5.391
netsplit 4.870 0.008 5.380
- checking for unstated dependencies in vignettes ... OK
- checking package vignettes ... OK
- checking re-building of vignette outputs ... [1s/1s] OK
- checking PDF version of manual ... [16s/20s] OK
- checking HTML version of manual ... [10s/14s] OK
- checking for non-standard things in the check directory ... OK
- DONE
Status: OK