* using log directory ‘/home/hornik/tmp/R.check/r-devel-clang/Work/PKGS/kappalab.Rcheck’ * using R Under development (unstable) (2025-07-02 r88374) * using platform: x86_64-pc-linux-gnu * R was compiled by Debian clang version 19.1.7 (3+b1) Debian flang-new version 19.1.7 (3+b1) * running under: Debian GNU/Linux 13 (trixie) * using session charset: UTF-8 * checking for file ‘kappalab/DESCRIPTION’ ... OK * this is package ‘kappalab’ version ‘0.4-12’ * package encoding: UTF-8 * checking CRAN incoming feasibility ... [1s/2s] NOTE Maintainer: ‘Ivan Kojadinovic ’ No Authors@R field in DESCRIPTION. Please add one, modifying Authors@R: c(person(given = "Michel", family = "Grabisch", role = "aut"), person(given = "Ivan", family = "Kojadinovic", role = c("aut", "cre"), email = "ivan.kojadinovic@univ-pau.fr"), person(given = "Patrick", family = "Meyer.", role = "aut")) as necessary. * checking package namespace information ... OK * checking package dependencies ... OK * checking if this is a source package ... OK * checking if there is a namespace ... OK * checking for executable files ... OK * checking for hidden files and directories ... OK * checking for portable file names ... OK * checking for sufficient/correct file permissions ... OK * checking serialization versions ... OK * checking whether package ‘kappalab’ can be installed ... OK See 'https://www.r-project.org/nosvn/R.check/r-devel-linux-x86_64-debian-clang/kappalab-00install.html' for details. * used C compiler: ‘Debian clang version 19.1.7 (3+b1)’ * checking package directory ... OK * checking for future file timestamps ... OK * checking DESCRIPTION meta-information ... OK * checking top-level files ... OK * checking for left-over files ... OK * checking index information ... OK * checking package subdirectories ... OK * checking code files for non-ASCII characters ... OK * checking R files for syntax errors ... OK * checking whether the package can be loaded ... [1s/2s] OK * checking whether the package can be loaded with stated dependencies ... [1s/1s] OK * checking whether the package can be unloaded cleanly ... [1s/1s] OK * checking whether the namespace can be loaded with stated dependencies ... [1s/1s] OK * checking whether the namespace can be unloaded cleanly ... [1s/1s] OK * checking loading without being on the library search path ... [1s/2s] OK * checking use of S3 registration ... OK * checking dependencies in R code ... OK * checking S3 generic/method consistency ... OK * checking replacement functions ... OK * checking foreign function calls ... OK * checking R code for possible problems ... [13s/17s] OK * checking Rd files ... [1s/1s] OK * checking Rd metadata ... OK * checking Rd line widths ... OK * checking Rd cross-references ... OK * checking for missing documentation entries ... OK * checking for code/documentation mismatches ... OK * checking Rd \usage sections ... OK * checking Rd contents ... OK * checking for unstated dependencies in examples ... OK * checking line endings in C/C++/Fortran sources/headers ... OK * checking pragmas in C/C++ headers and code ... OK * checking compilation flags used ... OK * checking compiled code ... OK * checking examples ... [3s/4s] OK * checking for unstated dependencies in ‘tests’ ... OK * checking tests ... [36s/48s] OK Running ‘Choquet.integral-methods.R’ [1s/2s] Running ‘Mobius-methods.R’ [1s/1s] Running ‘Mobius.capacity-class.R’ [1s/2s] Running ‘Mobius.card.set.func-class.R’ [1s/2s] Running ‘Mobius.game-class.R’ [1s/2s] Running ‘Mobius.set.func-class.R’ [1s/2s] Running ‘Shapley.value-methods.R’ [1s/1s] Running ‘capacity-class.R’ [1s/2s] Running ‘card.capacity-class.R’ [1s/2s] Running ‘card.game-class.R’ [1s/1s] Running ‘card.set.func-class.R’ [1s/1s] Running ‘conjugate-methods.R’ [1s/2s] Running ‘entropy-methods.R’ [1s/2s] Running ‘entropy.capa.ident.R’ [1s/2s] Running ‘heuristic.ls.capa.ident.R’ [2s/2s] Running ‘interaction.indices-methods.R’ [1s/2s] Running ‘is.cardinal-methods.R’ [1s/1s] Running ‘is.kadditive-methods.R’ [1s/1s] Running ‘is.monotone-methods.R’ [1s/2s] Running ‘k.truncate.Mobius-methods.R’ [1s/2s] Running ‘least.squares.capa.ident.R’ [2s/2s] Running ‘lin.prog.capa.ident.R’ [1s/1s] Running ‘ls.sorting.treatment.R’ [1s/2s] Running ‘mini.dist.capa.ident.R’ [1s/1s] Running ‘mini.var.capa.ident.R’ [1s/1s] Running ‘orness-methods.R’ [1s/1s] Running ‘set.func-class.R’ [1s/2s] Running ‘to.data.frame-methods.R’ [1s/1s] Running ‘variance-methods.R’ [1s/1s] Running ‘veto-methods.R’ [1s/2s] * checking PDF version of manual ... [7s/9s] OK * checking HTML version of manual ... [5s/8s] OK * checking for non-standard things in the check directory ... OK * DONE Status: 1 NOTE