- using R Under development (unstable) (2024-04-27 r86487)
- using platform: x86_64-pc-linux-gnu
- R was compiled by
Debian clang version 18.1.4 (1)
Debian flang-new version 18.1.4 (1)
- running under: Debian GNU/Linux trixie/sid
- using session charset: UTF-8
- checking for file ‘confintROB/DESCRIPTION’ ... OK
- checking extension type ... Package
- this is package ‘confintROB’ version ‘1.0’
- package encoding: UTF-8
- checking package namespace information ... OK
- checking package dependencies ... OK
- checking if this is a source package ... OK
- checking if there is a namespace ... OK
- checking for executable files ... OK
- checking for hidden files and directories ... OK
- checking for portable file names ... OK
- checking for sufficient/correct file permissions ... OK
- checking whether package ‘confintROB’ can be installed ... OK
See the install log for details.
- checking package directory ... OK
- checking for future file timestamps ... OK
- checking DESCRIPTION meta-information ... OK
- checking top-level files ... OK
- checking for left-over files ... OK
- checking index information ... OK
- checking package subdirectories ... OK
- checking code files for non-ASCII characters ... OK
- checking R files for syntax errors ... OK
- checking whether the package can be loaded ... [4s/4s] OK
- checking whether the package can be loaded with stated dependencies ... [3s/4s] OK
- checking whether the package can be unloaded cleanly ... [3s/4s] OK
- checking whether the namespace can be loaded with stated dependencies ... [3s/3s] OK
- checking whether the namespace can be unloaded cleanly ... [4s/4s] OK
- checking loading without being on the library search path ... [4s/5s] OK
- checking use of S3 registration ... OK
- checking dependencies in R code ... OK
- checking S3 generic/method consistency ... OK
- checking replacement functions ... OK
- checking foreign function calls ... OK
- checking R code for possible problems ... [20s/24s] OK
- checking Rd files ... [0s/1s] OK
- checking Rd metadata ... OK
- checking Rd line widths ... OK
- checking Rd cross-references ... OK
- checking for missing documentation entries ... OK
- checking for code/documentation mismatches ... OK
- checking Rd \usage sections ... OK
- checking Rd contents ... OK
- checking for unstated dependencies in examples ... OK
- checking contents of ‘data’ directory ... OK
- checking data for non-ASCII characters ... [0s/0s] OK
- checking LazyData ... OK
- checking data for ASCII and uncompressed saves ... OK
- checking examples ... [10s/12s] OK
Examples with CPU (user + system) or elapsed time > 5s
user system elapsed
confintROB 5.469 0.07 6.66
- checking for unstated dependencies in ‘tests’ ... OK
- checking tests ... [44s/57s] OK
Running ‘confintrob_test.R’ [18s/22s]
Comparing ‘confintrob_test.Rout’ to ‘confintrob_test.Rout.save’ ... OK
Running ‘parallelTest.R’ [7s/13s]
Running ‘varComprob_createParamSampleFunction.R’ [18s/21s]
Comparing ‘varComprob_createParamSampleFunction.Rout’ to ‘varComprob_createParamSampleFunction.Rout.save’ ...10,11d9
< + sample <- confintROB:::createParamSampleFunction(model = object,
< + data = data)
13,18c11,14
< + result11 <- c(sample(1), sample(1))
< + set.seed(123)
< + result2 <- sample(2)
< + names(result11) <- names(result2)
< + stopifnot(all.equal(result11, result2))
< + return(result2)
---
> + result <-
> + confintROB:::createParamSampleFunction(model = object,
> + data = data)(2)
> + return(result)
- checking PDF version of manual ... [7s/9s] OK
- checking HTML version of manual ... [0s/0s] OK
- checking for non-standard things in the check directory ... OK
- DONE
Status: OK