- using R Under development (unstable) (2024-04-29 r86495)
- using platform: x86_64-pc-linux-gnu
- R was compiled by
Debian clang version 18.1.4 (1)
Debian flang-new version 18.1.4 (1)
- running under: Debian GNU/Linux trixie/sid
- using session charset: UTF-8
- checking for file ‘RKEEL/DESCRIPTION’ ... OK
- checking extension type ... Package
- this is package ‘RKEEL’ version ‘1.3.4’
- checking package namespace information ... OK
- checking package dependencies ... OK
- checking if this is a source package ... OK
- checking if there is a namespace ... OK
- checking for executable files ... OK
- checking for hidden files and directories ... OK
- checking for portable file names ... OK
- checking for sufficient/correct file permissions ... OK
- checking serialization versions ... OK
- checking whether package ‘RKEEL’ can be installed ... OK
See the install log for details.
- checking package directory ... OK
- checking for future file timestamps ... OK
- checking DESCRIPTION meta-information ... OK
- checking top-level files ... OK
- checking for left-over files ... OK
- checking index information ... OK
- checking package subdirectories ... OK
- checking code files for non-ASCII characters ... OK
- checking R files for syntax errors ... OK
- checking whether the package can be loaded ... [1s/2s] OK
- checking whether the package can be loaded with stated dependencies ... [1s/1s] OK
- checking whether the package can be unloaded cleanly ... [1s/1s] OK
- checking whether the namespace can be loaded with stated dependencies ... [1s/1s] OK
- checking whether the namespace can be unloaded cleanly ... [1s/1s] OK
- checking loading without being on the library search path ... [1s/1s] OK
- checking whether startup messages can be suppressed ... [1s/1s] OK
- checking use of S3 registration ... OK
- checking dependencies in R code ... OK
- checking S3 generic/method consistency ... OK
- checking replacement functions ... OK
- checking foreign function calls ... OK
- checking R code for possible problems ... [17s/20s] OK
- checking Rd files ... [2s/2s] OK
- checking Rd metadata ... OK
- checking Rd line widths ... OK
- checking Rd cross-references ... OK
- checking for missing documentation entries ... OK
- checking for code/documentation mismatches ... OK
- checking Rd \usage sections ... OK
- checking Rd contents ... OK
- checking for unstated dependencies in examples ... OK
- checking examples ... [392s/455s] OK
Examples with CPU (user + system) or elapsed time > 5s
user system elapsed
ANR-F 10.880 0.620 12.373
Nominal2Binary-TR 9.887 0.186 10.461
Alcalaetal-A 9.052 0.473 11.531
ABB-IEP-FS 9.058 0.411 11.165
SSGA-Integer-knn-FS 7.787 0.304 8.730
Proportional-D 7.638 0.210 8.906
UniformFrequency-D 7.637 0.207 8.877
AllPosible-MV 7.378 0.316 9.618
Bayesian-D 7.409 0.245 8.296
UniformWidth-D 7.439 0.199 8.365
GANN-C 7.387 0.190 7.708
FPgrowth-A 7.274 0.299 8.585
Relief-FS 7.304 0.242 7.826
KMeans-MV 7.417 0.123 8.532
ZScore-TR 7.329 0.181 8.382
ID3-D 7.299 0.205 8.255
MostCommon-MV 7.317 0.149 8.593
KNN-MV 7.271 0.155 8.015
DecimalScaling-TR 7.196 0.184 8.707
Ignore-MV 7.265 0.107 7.916
CleanAttributes-TR 7.220 0.139 8.032
MinMax-TR 7.073 0.213 7.712
Apriori-A 6.840 0.311 8.696
ID3-C 6.948 0.195 7.227
Eclat-A 6.738 0.281 6.953
ART-C 6.638 0.243 7.239
FuzzyApriori-A 6.600 0.276 7.953
LVF-IEP-FS 6.541 0.180 7.304
GeneticFuzzyAprioriDC-A 6.469 0.236 7.768
SFS-IEP-FS 6.465 0.178 7.177
GeneticFuzzyApriori-A 6.338 0.253 7.717
NB-C 6.128 0.193 6.744
RISE-C 6.041 0.165 6.940
CART-R 4.991 0.491 6.660
BSE-C 4.554 0.244 5.310
CMAR-C 4.306 0.488 5.678
JFKNN-C 4.540 0.218 5.395
runCV 0.644 0.016 9.196
runSequential 0.167 0.004 7.351
- checking PDF version of manual ... [13s/16s] OK
- checking HTML version of manual ... [7s/11s] OK
- checking for non-standard things in the check directory ... OK
- DONE
Status: OK