- using R Under development (unstable) (2024-04-14 r86421)
- using platform: x86_64-pc-linux-gnu
- R was compiled by
Debian clang version 18.1.0 (rc4-1)
Debian flang-new version 18.1.0 (rc4-1)
- running under: Debian GNU/Linux trixie/sid
- using session charset: UTF-8
- checking for file ‘NSM3/DESCRIPTION’ ... OK
- checking extension type ... Package
- this is package ‘NSM3’ version ‘1.18’
- checking package namespace information ... OK
- checking package dependencies ... OK
- checking if this is a source package ... OK
- checking if there is a namespace ... OK
- checking for executable files ... OK
- checking for hidden files and directories ... OK
- checking for portable file names ... OK
- checking for sufficient/correct file permissions ... OK
- checking serialization versions ... OK
- checking whether package ‘NSM3’ can be installed ... OK
See the install log for details.
- used C compiler: ‘Debian clang version 18.1.0 (rc4-1)’
- checking package directory ... OK
- checking for future file timestamps ... OK
- checking DESCRIPTION meta-information ... OK
- checking top-level files ... OK
- checking for left-over files ... OK
- checking index information ... OK
- checking package subdirectories ... OK
- checking code files for non-ASCII characters ... OK
- checking R files for syntax errors ... OK
- checking whether the package can be loaded ... [5s/7s] OK
- checking whether the package can be loaded with stated dependencies ... [5s/6s] OK
- checking whether the package can be unloaded cleanly ... [5s/6s] OK
- checking whether the namespace can be loaded with stated dependencies ... [5s/5s] OK
- checking whether the namespace can be unloaded cleanly ... [5s/6s] OK
- checking loading without being on the library search path ... [5s/6s] OK
- checking use of S3 registration ... OK
- checking dependencies in R code ... OK
- checking S3 generic/method consistency ... OK
- checking replacement functions ... OK
- checking foreign function calls ... OK
- checking R code for possible problems ... [62s/74s] OK
- checking Rd files ... [1s/1s] NOTE
checkRd: (-1) svr.df.Rd:13: Lost braces
13 | \item{z}{the vector of zi = min{Xi, Yi}}
| ^
- checking Rd metadata ... OK
- checking Rd line widths ... OK
- checking Rd cross-references ... OK
- checking for missing documentation entries ... OK
- checking for code/documentation mismatches ... OK
- checking Rd \usage sections ... OK
- checking Rd contents ... OK
- checking for unstated dependencies in examples ... OK
- checking contents of ‘data’ directory ... OK
- checking data for non-ASCII characters ... [0s/1s] OK
- checking data for ASCII and uncompressed saves ... OK
- checking line endings in C/C++/Fortran sources/headers ... OK
- checking pragmas in C/C++ headers and code ... OK
- checking compilation flags used ... OK
- checking compiled code ... OK
- checking examples ... [141s/160s] OK
Examples with CPU (user + system) or elapsed time > 5s
user system elapsed
cFrd 10.137 0.140 11.125
pSkilMack 8.018 0.017 8.993
pDurSkiMa 7.662 0.069 8.841
cWNMT 7.291 0.005 7.731
cSDCFlig 6.425 0.049 7.418
cSkilMack 6.136 0.080 7.128
pUmbrPU 5.895 0.000 6.506
pRangeNor 5.650 0.063 6.727
cRangeNor 5.611 0.008 5.795
cBohnWolfe 5.049 0.191 5.933
pWNMT 5.187 0.001 6.651
cNDWol 5.007 0.061 5.484
pNWWM 4.445 0.031 5.619
cAnsBrad 3.972 0.332 5.271
pFrd 4.060 0.008 5.031
- checking PDF version of manual ... [9s/13s] OK
- checking HTML version of manual ... [4s/6s] OK
- checking for non-standard things in the check directory ... OK
- DONE
Status: 1 NOTE