- using R Under development (unstable) (2024-04-27 r86487)
- using platform: x86_64-pc-linux-gnu
- R was compiled by
Debian clang version 18.1.4 (1)
Debian flang-new version 18.1.4 (1)
- running under: Debian GNU/Linux trixie/sid
- using session charset: UTF-8
- checking for file ‘DImodelsVis/DESCRIPTION’ ... OK
- this is package ‘DImodelsVis’ version ‘1.0.1’
- package encoding: UTF-8
- checking package namespace information ... OK
- checking package dependencies ... OK
- checking if this is a source package ... OK
- checking if there is a namespace ... OK
- checking for executable files ... OK
- checking for hidden files and directories ... OK
- checking for portable file names ... OK
- checking for sufficient/correct file permissions ... OK
- checking serialization versions ... OK
- checking whether package ‘DImodelsVis’ can be installed ... OK
See the install log for details.
- checking package directory ... OK
- checking for future file timestamps ... OK
- checking ‘build’ directory ... OK
- checking DESCRIPTION meta-information ... OK
- checking top-level files ... OK
- checking for left-over files ... OK
- checking index information ... OK
- checking package subdirectories ... OK
- checking code files for non-ASCII characters ... OK
- checking R files for syntax errors ... OK
- checking whether the package can be loaded ... [3s/3s] OK
- checking whether the package can be loaded with stated dependencies ... [2s/3s] OK
- checking whether the package can be unloaded cleanly ... [2s/3s] OK
- checking whether the namespace can be loaded with stated dependencies ... [2s/3s] OK
- checking whether the namespace can be unloaded cleanly ... [3s/4s] OK
- checking loading without being on the library search path ... [3s/3s] OK
- checking use of S3 registration ... OK
- checking dependencies in R code ... OK
- checking S3 generic/method consistency ... OK
- checking replacement functions ... OK
- checking foreign function calls ... OK
- checking R code for possible problems ... [28s/35s] OK
- checking Rd files ... [1s/2s] OK
- checking Rd metadata ... OK
- checking Rd line widths ... OK
- checking Rd cross-references ... OK
- checking for missing documentation entries ... OK
- checking for code/documentation mismatches ... OK
- checking Rd \usage sections ... OK
- checking Rd contents ... OK
- checking for unstated dependencies in examples ... OK
- checking installed files from ‘inst/doc’ ... OK
- checking files in ‘vignettes’ ... OK
- checking examples ... [128s/166s] OK
Examples with CPU (user + system) or elapsed time > 5s
user system elapsed
simplex_path 9.841 0.080 11.808
model_diagnostics 8.385 0.133 9.789
simplex_path_data 8.018 0.091 9.689
gradient_change_plot 7.614 0.227 10.372
DImodelsVis-package 7.087 0.275 9.027
visualise_effects 7.256 0.081 8.117
grouped_ternary 7.157 0.108 9.361
model_selection 6.859 0.124 9.176
simplex_path_plot 6.844 0.033 10.834
conditional_ternary 6.625 0.246 10.373
ternary_data 4.657 1.345 7.828
gradient_change 5.323 0.080 7.277
prediction_contributions 5.104 0.028 5.801
visualise_effects_plot 4.678 0.103 6.375
grouped_ternary_plot 4.701 0.034 6.098
visualise_effects_data 4.686 0.012 6.641
conditional_ternary_plot 4.586 0.004 6.704
ternary_plot 3.846 0.305 5.270
- checking for unstated dependencies in ‘tests’ ... OK
- checking tests ... [1s/1s] OK
Running ‘spelling.R’ [0s/1s]
- checking for unstated dependencies in vignettes ... OK
- checking package vignettes ... OK
- checking re-building of vignette outputs ... [84s/100s] OK
- checking PDF version of manual ... [11s/13s] OK
- checking HTML version of manual ... [4s/6s] OK
- checking for non-standard things in the check directory ... OK
- DONE
Status: OK