- using R Under development (unstable) (2024-04-29 r86495)
- using platform: x86_64-pc-linux-gnu
- R was compiled by
Debian clang version 18.1.4 (1)
Debian flang-new version 18.1.4 (1)
- running under: Debian GNU/Linux trixie/sid
- using session charset: UTF-8
- checking for file ‘AIUQ/DESCRIPTION’ ... OK
- checking extension type ... Package
- this is package ‘AIUQ’ version ‘0.5.1’
- package encoding: UTF-8
- checking package namespace information ... OK
- checking package dependencies ... OK
- checking if this is a source package ... OK
- checking if there is a namespace ... OK
- checking for executable files ... OK
- checking for hidden files and directories ... OK
- checking for portable file names ... OK
- checking for sufficient/correct file permissions ... OK
- checking serialization versions ... OK
- checking whether package ‘AIUQ’ can be installed ... OK
See the install log for details.
- checking package directory ... OK
- checking for future file timestamps ... OK
- checking DESCRIPTION meta-information ... OK
- checking top-level files ... OK
- checking for left-over files ... OK
- checking index information ... OK
- checking package subdirectories ... OK
- checking code files for non-ASCII characters ... OK
- checking R files for syntax errors ... OK
- checking whether the package can be loaded ... [0s/1s] OK
- checking whether the package can be loaded with stated dependencies ... [0s/1s] OK
- checking whether the package can be unloaded cleanly ... [0s/1s] OK
- checking whether the namespace can be loaded with stated dependencies ... [0s/1s] OK
- checking whether the namespace can be unloaded cleanly ... [0s/1s] OK
- checking loading without being on the library search path ... [0s/1s] OK
- checking use of S3 registration ... OK
- checking dependencies in R code ... OK
- checking S3 generic/method consistency ... OK
- checking replacement functions ... OK
- checking foreign function calls ... OK
- checking R code for possible problems ... [33s/40s] OK
- checking Rd files ... [2s/2s] OK
- checking Rd metadata ... OK
- checking Rd line widths ... OK
- checking Rd cross-references ... OK
- checking for missing documentation entries ... OK
- checking for code/documentation mismatches ... OK
- checking Rd \usage sections ... OK
- checking Rd contents ... OK
- checking for unstated dependencies in examples ... OK
- checking examples ... [116s/141s] OK
Examples with CPU (user + system) or elapsed time > 5s
user system elapsed
get_isf 12.459 0.636 16.143
get_dqt 12.562 0.461 14.658
SAM 11.676 0.769 14.700
modeled_dqt 11.311 0.520 15.330
modeled_isf 11.120 0.454 13.182
show.sam 11.116 0.367 14.383
aniso_SAM 10.907 0.458 15.578
plot_MSD 8.463 0.418 10.813
show.aniso_sam 6.057 0.115 6.725
aniso_simulation 5.532 0.489 7.528
simulation 4.768 0.313 5.500
- checking PDF version of manual ... [8s/10s] OK
- checking HTML version of manual ... [4s/6s] OK
- checking for non-standard things in the check directory ... OK
- DONE
Status: OK