- using R version 4.3.3 (2024-02-29)
- using platform: x86_64-pc-linux-gnu (64-bit)
- R was compiled by
gcc-13 (Debian 13.2.0-13) 13.2.0
GNU Fortran (Debian 13.2.0-13) 13.2.0
- running under: Debian GNU/Linux trixie/sid
- using session charset: UTF-8
- checking for file ‘netmeta/DESCRIPTION’ ... OK
- this is package ‘netmeta’ version ‘2.9-0’
- package encoding: UTF-8
- checking package namespace information ... OK
- checking package dependencies ... OK
- checking if this is a source package ... OK
- checking if there is a namespace ... OK
- checking for executable files ... OK
- checking for hidden files and directories ... OK
- checking for portable file names ... OK
- checking for sufficient/correct file permissions ... OK
- checking whether package ‘netmeta’ can be installed ... OK
See the install log for details.
- checking package directory ... OK
- checking for future file timestamps ... OK
- checking ‘build’ directory ... OK
- checking DESCRIPTION meta-information ... OK
- checking top-level files ... OK
- checking for left-over files ... OK
- checking index information ... OK
- checking package subdirectories ... OK
- checking R files for non-ASCII characters ... OK
- checking R files for syntax errors ... OK
- checking whether the package can be loaded ... [5s/6s] OK
- checking whether the package can be loaded with stated dependencies ... [4s/4s] OK
- checking whether the package can be unloaded cleanly ... [4s/4s] OK
- checking whether the namespace can be loaded with stated dependencies ... [4s/4s] OK
- checking whether the namespace can be unloaded cleanly ... [5s/5s] OK
- checking loading without being on the library search path ... [5s/5s] OK
- checking startup messages can be suppressed ... [4s/5s] OK
- checking use of S3 registration ... OK
- checking dependencies in R code ... OK
- checking S3 generic/method consistency ... OK
- checking replacement functions ... OK
- checking foreign function calls ... OK
- checking R code for possible problems ... [110s/127s] OK
- checking Rd files ... [2s/3s] OK
- checking Rd metadata ... OK
- checking Rd line widths ... OK
- checking Rd cross-references ... OK
- checking for missing documentation entries ... OK
- checking for code/documentation mismatches ... OK
- checking Rd \usage sections ... OK
- checking Rd contents ... OK
- checking for unstated dependencies in examples ... OK
- checking contents of ‘data’ directory ... OK
- checking data for non-ASCII characters ... [0s/0s] OK
- checking data for ASCII and uncompressed saves ... OK
- checking sizes of PDF files under ‘inst/doc’ ... OK
- checking installed files from ‘inst/doc’ ... OK
- checking files in ‘vignettes’ ... OK
- checking examples ... [348s/383s] OK
Examples with CPU (user + system) or elapsed time > 5s
user system elapsed
Gurusamy2011 11.451 0.151 12.184
Dong2013 9.259 0.154 10.011
netmetabin 9.253 0.043 9.620
netpairwise 8.384 0.036 8.716
netmeasures 8.264 0.010 8.489
forest.netmeta 8.054 0.027 9.017
plot.rankogram 7.891 0.009 8.288
netmatrix 7.572 0.027 8.848
netgraph 7.506 0.079 8.072
invmat 7.566 0.008 8.589
netmeta 7.522 0.045 8.484
smokingcessation 7.483 0.056 8.276
print.summary.netmeta 7.513 0.020 7.946
netrank 7.495 0.020 7.824
netgraph.netmeta 7.482 0.011 8.443
netdistance 7.422 0.027 7.974
as.data.frame.netmeta 7.353 0.080 8.235
treats 7.385 0.015 7.688
summary.netmeta 7.371 0.020 7.661
netbind 7.261 0.048 8.116
forest.netbind 7.130 0.004 7.564
forest.netcomparison 6.994 0.063 8.533
forest.netcomplex 6.920 0.031 9.548
netgraph.netimpact 6.426 0.008 8.032
netcomb 6.391 0.028 6.770
netimpact 6.314 0.091 6.908
Franchini2012 6.228 0.138 6.812
rankogram 6.181 0.166 7.150
print.netimpact 6.334 0.003 6.676
forest.netcomb 6.152 0.023 7.621
netcontrib 5.943 0.096 7.788
dietaryfat 5.816 0.063 6.471
netgraph.netcomb 5.779 0.076 6.330
print.netcomb 5.807 0.024 6.542
print.summary.netcomb 5.802 0.004 6.252
print.netbind 5.759 0.012 6.220
summary.netcomb 5.695 0.008 5.923
netcomplex 5.624 0.008 6.545
netcomparison 5.572 0.015 6.278
netheat 5.489 0.008 7.000
Linde2016 5.339 0.091 5.550
netsplit 4.997 0.059 5.219
nettable 5.034 0.007 5.518
print.decomp.design 5.003 0.008 5.133
decomp.design 4.946 0.023 5.347
netleague 4.950 0.004 5.801
forest.netsplit 4.918 0.008 5.465
Stowe2010 4.598 0.057 5.084
heatplot 4.238 0.020 5.574
- checking for unstated dependencies in vignettes ... OK
- checking package vignettes in ‘inst/doc’ ... OK
- checking re-building of vignette outputs ... [1s/1s] OK
- checking PDF version of manual ... [14s/18s] OK
- checking HTML version of manual ... [10s/14s] OK
- checking for non-standard things in the check directory ... OK
- DONE
Status: OK