- using R version 4.3.3 (2024-02-29)
- using platform: x86_64-pc-linux-gnu (64-bit)
- R was compiled by
gcc-13 (Debian 13.2.0-13) 13.2.0
GNU Fortran (Debian 13.2.0-13) 13.2.0
- running under: Debian GNU/Linux trixie/sid
- using session charset: UTF-8
- checking for file ‘longmemo/DESCRIPTION’ ... OK
- this is package ‘longmemo’ version ‘1.1-2’
- checking package namespace information ... OK
- checking package dependencies ... OK
- checking if this is a source package ... OK
- checking if there is a namespace ... OK
- checking for executable files ... OK
- checking for hidden files and directories ... OK
- checking for portable file names ... OK
- checking for sufficient/correct file permissions ... OK
- checking serialization versions ... OK
- checking whether package ‘longmemo’ can be installed ... OK
See the install log for details.
- checking package directory ... OK
- checking for future file timestamps ... OK
- checking ‘build’ directory ... OK
- checking DESCRIPTION meta-information ... OK
- checking top-level files ... OK
- checking for left-over files ... OK
- checking index information ... OK
- checking package subdirectories ... OK
- checking R files for non-ASCII characters ... OK
- checking R files for syntax errors ... OK
- checking whether the package can be loaded ... [0s/0s] OK
- checking whether the package can be loaded with stated dependencies ... [0s/0s] OK
- checking whether the package can be unloaded cleanly ... [0s/0s] OK
- checking whether the namespace can be loaded with stated dependencies ... [0s/0s] OK
- checking whether the namespace can be unloaded cleanly ... [0s/0s] OK
- checking loading without being on the library search path ... [0s/0s] OK
- checking use of S3 registration ... OK
- checking dependencies in R code ... OK
- checking S3 generic/method consistency ... OK
- checking replacement functions ... OK
- checking foreign function calls ... OK
- checking R code for possible problems ... [6s/8s] OK
- checking Rd files ... [1s/1s] OK
- checking Rd metadata ... OK
- checking Rd line widths ... OK
- checking Rd cross-references ... OK
- checking for missing documentation entries ... OK
- checking for code/documentation mismatches ... OK
- checking Rd \usage sections ... OK
- checking Rd contents ... OK
- checking for unstated dependencies in examples ... OK
- checking contents of ‘data’ directory ... OK
- checking data for non-ASCII characters ... [0s/1s] OK
- checking data for ASCII and uncompressed saves ... OK
- checking sizes of PDF files under ‘inst/doc’ ... OK
- checking installed files from ‘inst/doc’ ... OK
- checking files in ‘vignettes’ ... OK
- checking examples ... [2s/2s] OK
- checking for unstated dependencies in ‘tests’ ... OK
- checking tests ... [7s/9s] OK
Running ‘FEXP-ex.R’ [1s/1s]
Comparing ‘FEXP-ex.Rout’ to ‘FEXP-ex.Rout.save’ ...12a13,16
> Deviance Residuals:
> Min 1Q Median 3Q Max
> -3.138 -1.046 -0.318 0.350 2.455
>
33a38,41
> Deviance Residuals:
> Min 1Q Median 3Q Max
> -3.140 -1.047 -0.312 0.326 2.578
>
55a64,67
> Deviance Residuals:
> Min 1Q Median 3Q Max
> -3.162 -1.030 -0.302 0.330 2.700
>
105a118,121
> Deviance Residuals:
> Min 1Q Median 3Q Max
> -4.504 -1.124 -0.478 0.260 3.252
>
133a150,153
> Deviance Residuals:
> Min 1Q Median 3Q Max
> -4.504 -1.124 -0.478 0.260 3.252
>
154a175,178
> Deviance Residuals:
> Min 1Q Median 3Q Max
> -4.062 -1.060 -0.371 0.336 2.461
>
183a208,211
> Deviance Residuals:
> Min 1Q Median 3Q Max
> -4.504 -1.124 -0.478 0.260 3.252
>
204a233,236
> Deviance Residuals:
> Min 1Q Median 3Q Max
> -4.062 -1.060 -0.371 0.336 2.461
>
225a258,261
>
> Deviance Residuals:
> Min 1Q Median 3Q Max
> -3.983 -1.016 -0.332 0.295 2.717
Running ‘ceta-ex.R’ [1s/2s]
Comparing ‘ceta-ex.Rout’ to ‘ceta-ex.Rout.save’ ... OK
Running ‘sim-ex.R’ [0s/1s]
Comparing ‘sim-ex.Rout’ to ‘sim-ex.Rout.save’ ... OK
Running ‘spec-ex.R’ [5s/5s]
- checking for unstated dependencies in vignettes ... OK
- checking package vignettes in ‘inst/doc’ ... OK
- checking re-building of vignette outputs ... [6s/9s] OK
- checking PDF version of manual ... [6s/8s] OK
- checking HTML version of manual ... [2s/3s] OK
- checking for non-standard things in the check directory ... OK
- DONE
Status: OK