- using R version 4.3.3 (2024-02-29)
- using platform: x86_64-pc-linux-gnu (64-bit)
- R was compiled by
gcc-13 (Debian 13.2.0-13) 13.2.0
GNU Fortran (Debian 13.2.0-13) 13.2.0
- running under: Debian GNU/Linux trixie/sid
- using session charset: UTF-8
- checking for file ‘ggpubr/DESCRIPTION’ ... OK
- checking extension type ... Package
- this is package ‘ggpubr’ version ‘0.6.0’
- package encoding: UTF-8
- checking package namespace information ... OK
- checking package dependencies ... OK
- checking if this is a source package ... OK
- checking if there is a namespace ... OK
- checking for executable files ... OK
- checking for hidden files and directories ... OK
- checking for portable file names ... OK
- checking for sufficient/correct file permissions ... OK
- checking serialization versions ... OK
- checking whether package ‘ggpubr’ can be installed ... OK
See the install log for details.
- checking package directory ... OK
- checking for future file timestamps ... OK
- checking DESCRIPTION meta-information ... OK
- checking top-level files ... OK
- checking for left-over files ... OK
- checking index information ... OK
- checking package subdirectories ... OK
- checking R files for non-ASCII characters ... OK
- checking R files for syntax errors ... OK
- checking whether the package can be loaded ... [2s/2s] OK
- checking whether the package can be loaded with stated dependencies ... [1s/2s] OK
- checking whether the package can be unloaded cleanly ... [1s/1s] OK
- checking whether the namespace can be loaded with stated dependencies ... [1s/1s] OK
- checking whether the namespace can be unloaded cleanly ... [2s/3s] OK
- checking loading without being on the library search path ... [2s/2s] OK
- checking use of S3 registration ... OK
- checking dependencies in R code ... OK
- checking S3 generic/method consistency ... OK
- checking replacement functions ... OK
- checking foreign function calls ... OK
- checking R code for possible problems ... [37s/43s] OK
- checking Rd files ... [2s/2s] OK
- checking Rd metadata ... OK
- checking Rd line widths ... OK
- checking Rd cross-references ... OK
- checking for missing documentation entries ... OK
- checking for code/documentation mismatches ... OK
- checking Rd \usage sections ... OK
- checking Rd contents ... OK
- checking for unstated dependencies in examples ... OK
- checking contents of ‘data’ directory ... OK
- checking data for non-ASCII characters ... [0s/1s] OK
- checking LazyData ... OK
- checking data for ASCII and uncompressed saves ... OK
- checking examples ... [156s/186s] OK
Examples with CPU (user + system) or elapsed time > 5s
user system elapsed
ggtexttable 6.904 0.012 7.684
ggmaplot 6.369 0.150 8.349
ggbarplot 6.421 0.042 7.901
ggsummarystats 6.225 0.012 7.031
stat_anova_test 5.545 0.011 6.479
ggviolin 5.213 0.072 6.160
ggline 5.267 0.004 6.485
ggscatter 4.591 0.067 5.221
geom_pwc 4.595 0.048 5.499
ggpar 4.568 0.004 5.500
diff_express 4.364 0.131 5.496
ggscatterhist 4.037 0.056 5.180
ggboxplot 3.778 0.004 5.137
- checking for unstated dependencies in ‘tests’ ... OK
- checking tests ... [25s/30s] OK
Running ‘testthat.R’ [25s/29s]
- checking PDF version of manual ... [13s/14s] OK
- checking HTML version of manual ... [8s/11s] OK
- checking for non-standard things in the check directory ... OK
- DONE
Status: OK