- using R version 4.3.3 (2024-02-29)
- using platform: x86_64-pc-linux-gnu (64-bit)
- R was compiled by
gcc-13 (Debian 13.2.0-13) 13.2.0
GNU Fortran (Debian 13.2.0-13) 13.2.0
- running under: Debian GNU/Linux trixie/sid
- using session charset: UTF-8
- checking for file ‘RKEEL/DESCRIPTION’ ... OK
- checking extension type ... Package
- this is package ‘RKEEL’ version ‘1.3.4’
- checking package namespace information ... OK
- checking package dependencies ... OK
- checking if this is a source package ... OK
- checking if there is a namespace ... OK
- checking for executable files ... OK
- checking for hidden files and directories ... OK
- checking for portable file names ... OK
- checking for sufficient/correct file permissions ... OK
- checking serialization versions ... OK
- checking whether package ‘RKEEL’ can be installed ... OK
See the install log for details.
- checking package directory ... OK
- checking for future file timestamps ... OK
- checking DESCRIPTION meta-information ... OK
- checking top-level files ... OK
- checking for left-over files ... OK
- checking index information ... OK
- checking package subdirectories ... OK
- checking R files for non-ASCII characters ... OK
- checking R files for syntax errors ... OK
- checking whether the package can be loaded ... [1s/1s] OK
- checking whether the package can be loaded with stated dependencies ... [1s/1s] OK
- checking whether the package can be unloaded cleanly ... [1s/1s] OK
- checking whether the namespace can be loaded with stated dependencies ... [1s/1s] OK
- checking whether the namespace can be unloaded cleanly ... [1s/1s] OK
- checking loading without being on the library search path ... [1s/1s] OK
- checking startup messages can be suppressed ... [1s/1s] OK
- checking use of S3 registration ... OK
- checking dependencies in R code ... OK
- checking S3 generic/method consistency ... OK
- checking replacement functions ... OK
- checking foreign function calls ... OK
- checking R code for possible problems ... [17s/21s] OK
- checking Rd files ... [2s/3s] OK
- checking Rd metadata ... OK
- checking Rd line widths ... OK
- checking Rd cross-references ... OK
- checking for missing documentation entries ... OK
- checking for code/documentation mismatches ... OK
- checking Rd \usage sections ... OK
- checking Rd contents ... OK
- checking for unstated dependencies in examples ... OK
- checking examples ... [361s/425s] OK
Examples with CPU (user + system) or elapsed time > 5s
user system elapsed
ANR-F 9.770 0.435 10.464
Nominal2Binary-TR 8.843 0.173 9.904
Alcalaetal-A 8.246 0.378 11.457
ABB-IEP-FS 7.610 0.431 9.418
SSGA-Integer-knn-FS 7.271 0.230 8.717
GANN-C 7.143 0.163 7.250
UniformFrequency-D 6.865 0.202 7.852
AllPosible-MV 6.719 0.247 9.174
CleanAttributes-TR 6.733 0.203 8.156
UniformWidth-D 6.715 0.188 7.930
Relief-FS 6.705 0.196 7.769
Bayesian-D 6.581 0.280 8.141
Proportional-D 6.605 0.233 7.003
ID3-D 6.553 0.243 7.393
ZScore-TR 6.647 0.130 7.559
MinMax-TR 6.524 0.167 7.668
KMeans-MV 6.494 0.180 6.973
MostCommon-MV 6.503 0.164 6.899
DecimalScaling-TR 6.463 0.140 7.302
Ignore-MV 6.458 0.137 7.611
KNN-MV 6.418 0.171 7.000
SFS-IEP-FS 6.371 0.204 7.056
FPgrowth-A 6.271 0.302 7.514
ART-C 6.324 0.232 6.778
Eclat-A 6.211 0.242 6.709
ID3-C 6.283 0.159 6.158
LVF-IEP-FS 6.250 0.176 7.644
Apriori-A 6.165 0.220 8.028
FuzzyApriori-A 6.112 0.225 7.116
GeneticFuzzyAprioriDC-A 5.946 0.312 6.916
GeneticFuzzyApriori-A 5.899 0.235 6.868
RISE-C 5.575 0.189 5.909
NB-C 5.488 0.187 6.653
CART-R 4.734 0.452 5.890
BSE-C 4.457 0.203 6.002
CMAR-C 4.041 0.487 5.124
runCV 0.574 0.020 9.348
runSequential 0.156 0.004 6.530
- checking PDF version of manual ... [12s/14s] OK
- checking HTML version of manual ... [6s/10s] OK
- checking for non-standard things in the check directory ... OK
- DONE
Status: OK