- using R version 4.3.3 (2024-02-29)
- using platform: x86_64-pc-linux-gnu (64-bit)
- R was compiled by
gcc-13 (Debian 13.2.0-13) 13.2.0
GNU Fortran (Debian 13.2.0-13) 13.2.0
- running under: Debian GNU/Linux trixie/sid
- using session charset: UTF-8
- checking for file ‘MSGARCH/DESCRIPTION’ ... OK
- checking extension type ... Package
- this is package ‘MSGARCH’ version ‘2.51’
- package encoding: UTF-8
- checking package namespace information ... OK
- checking package dependencies ... OK
- checking if this is a source package ... OK
- checking if there is a namespace ... OK
- checking for executable files ... OK
- checking for hidden files and directories ... OK
- checking for portable file names ... OK
- checking for sufficient/correct file permissions ... OK
- checking serialization versions ... OK
- checking whether package ‘MSGARCH’ can be installed ... OK
See the install log for details.
- used C++ compiler: ‘g++-13 (Debian 13.2.0-13) 13.2.0’
- checking package directory ... OK
- checking for future file timestamps ... OK
- checking DESCRIPTION meta-information ... OK
- checking top-level files ... OK
- checking for left-over files ... OK
- checking index information ... OK
- checking package subdirectories ... OK
- checking R files for non-ASCII characters ... OK
- checking R files for syntax errors ... OK
- checking whether the package can be loaded ... [12s/15s] OK
- checking whether the package can be loaded with stated dependencies ... [11s/12s] OK
- checking whether the package can be unloaded cleanly ... [11s/13s] OK
- checking whether the namespace can be loaded with stated dependencies ... [11s/13s] OK
- checking whether the namespace can be unloaded cleanly ... [12s/14s] OK
- checking loading without being on the library search path ... [12s/13s] OK
- checking startup messages can be suppressed ... [13s/15s] OK
- checking use of S3 registration ... OK
- checking dependencies in R code ... OK
- checking S3 generic/method consistency ... OK
- checking replacement functions ... OK
- checking foreign function calls ... OK
- checking R code for possible problems ... [72s/88s] OK
- checking Rd files ... [1s/1s] OK
- checking Rd metadata ... OK
- checking Rd line widths ... OK
- checking Rd cross-references ... OK
- checking for missing documentation entries ... OK
- checking for code/documentation mismatches ... OK
- checking Rd \usage sections ... OK
- checking Rd contents ... OK
- checking for unstated dependencies in examples ... OK
- checking contents of ‘data’ directory ... OK
- checking data for non-ASCII characters ... [0s/0s] OK
- checking data for ASCII and uncompressed saves ... OK
- checking line endings in C/C++/Fortran sources/headers ... OK
- checking line endings in Makefiles ... OK
- checking compilation flags in Makevars ... OK
- checking for GNU extensions in Makefiles ... OK
- checking for portable use of $(BLAS_LIBS) and $(LAPACK_LIBS) ... OK
- checking use of PKG_*FLAGS in Makefiles ... OK
- checking use of SHLIB_OPENMP_*FLAGS in Makefiles ... OK
- checking pragmas in C/C++ headers and code ... OK
- checking compilation flags used ... OK
- checking compiled code ... OK
- checking examples ... [79s/91s] OK
Examples with CPU (user + system) or elapsed time > 5s
user system elapsed
simulate 6.330 0.008 7.410
predict 6.021 0.072 6.633
Risk 5.838 0.011 6.817
State 5.747 0.024 6.249
FitMCMC 5.705 0.003 6.555
Volatility 5.656 0.004 6.231
FitML 5.657 0.000 6.183
PIT 5.635 0.004 7.681
ExtractStateFit 5.591 0.016 6.182
TransMat 5.509 0.001 6.706
PredPdf 5.452 0.004 6.992
- checking for unstated dependencies in ‘tests’ ... OK
- checking tests ... [37s/42s] OK
Running ‘testthat.R’ [37s/42s]
- checking PDF version of manual ... [6s/8s] OK
- checking HTML version of manual ... [2s/2s] OK
- checking for non-standard things in the check directory ... OK
- DONE
Status: OK