- using R version 4.3.3 (2024-02-29)
- using platform: x86_64-pc-linux-gnu (64-bit)
- R was compiled by
gcc-13 (Debian 13.2.0-13) 13.2.0
GNU Fortran (Debian 13.2.0-13) 13.2.0
- running under: Debian GNU/Linux trixie/sid
- using session charset: UTF-8
- checking for file ‘BNPdensity/DESCRIPTION’ ... OK
- checking extension type ... Package
- this is package ‘BNPdensity’ version ‘2023.3.8’
- package encoding: UTF-8
- checking package namespace information ... OK
- checking package dependencies ... OK
- checking if this is a source package ... OK
- checking if there is a namespace ... OK
- checking for executable files ... OK
- checking for hidden files and directories ... OK
- checking for portable file names ... OK
- checking for sufficient/correct file permissions ... OK
- checking whether package ‘BNPdensity’ can be installed ... OK
See the install log for details.
- checking package directory ... OK
- checking for future file timestamps ... OK
- checking DESCRIPTION meta-information ... OK
- checking top-level files ... OK
- checking for left-over files ... OK
- checking index information ... OK
- checking package subdirectories ... OK
- checking R files for non-ASCII characters ... OK
- checking R files for syntax errors ... OK
- checking whether the package can be loaded ... [2s/2s] OK
- checking whether the package can be loaded with stated dependencies ... [1s/1s] OK
- checking whether the package can be unloaded cleanly ... [1s/1s] OK
- checking whether the namespace can be loaded with stated dependencies ... [1s/1s] OK
- checking whether the namespace can be unloaded cleanly ... [2s/2s] OK
- checking loading without being on the library search path ... [2s/2s] OK
- checking use of S3 registration ... OK
- checking dependencies in R code ... OK
- checking S3 generic/method consistency ... OK
- checking replacement functions ... OK
- checking foreign function calls ... OK
- checking R code for possible problems ... [23s/29s] OK
- checking Rd files ... [1s/1s] OK
- checking Rd metadata ... OK
- checking Rd line widths ... OK
- checking Rd cross-references ... OK
- checking for missing documentation entries ... OK
- checking for code/documentation mismatches ... OK
- checking Rd \usage sections ... OK
- checking Rd contents ... OK
- checking for unstated dependencies in examples ... OK
- checking contents of ‘data’ directory ... OK
- checking data for non-ASCII characters ... [1s/1s] OK
- checking LazyData ... OK
- checking data for ASCII and uncompressed saves ... OK
- checking R/sysdata.rda ... OK
- checking examples ... [103s/126s] OK
Examples with CPU (user + system) or elapsed time > 5s
user system elapsed
GOFplots 6.714 0.128 9.180
GOFplots_noncensored 5.332 0.025 7.549
plot.NRMI2 5.339 0.018 6.551
GOFplots_censored 4.973 0.082 6.580
plot.NRMI1 4.732 0.083 5.832
summary.NRMI2 4.794 0.000 5.714
print.NRMI2 4.789 0.003 5.388
plotCDF_censored 4.764 0.020 6.004
plotPDF_noncensored 4.779 0.000 6.128
pp_plot_censored 4.689 0.090 6.028
pp_plot_noncensored 4.552 0.000 6.172
print.NRMI1 4.345 0.004 5.883
plotPDF_censored 4.336 0.000 5.829
Examples with CPU time > 2.5 times elapsed time
user system elapsed ratio
pk 0.88 0.144 0.022 46.545
- checking PDF version of manual ... [10s/12s] OK
- checking HTML version of manual ... [5s/8s] OK
- checking for non-standard things in the check directory ... OK
- DONE
Status: OK