- using R Under development (unstable) (2024-04-12 r86412)
- using platform: x86_64-pc-linux-gnu
- R was compiled by
clang version 18.1.2
flang-new version 18.1.2
- running under: Fedora Linux 36 (Workstation Edition)
- using session charset: UTF-8
- using option ‘--no-stop-on-test-error’
- checking for file ‘partykit/DESCRIPTION’ ... OK
- this is package ‘partykit’ version ‘1.2-20’
- checking package namespace information ... OK
- checking package dependencies ... OK
- checking if this is a source package ... OK
- checking if there is a namespace ... OK
- checking for executable files ... OK
- checking for hidden files and directories ... OK
- checking for portable file names ... OK
- checking for sufficient/correct file permissions ... OK
- checking whether package ‘partykit’ can be installed ... [24s/28s] OK
See the install log for details.
- used C compiler: ‘clang version 18.1.2’
- checking installed package size ... OK
- checking package directory ... OK
- checking ‘build’ directory ... OK
- checking DESCRIPTION meta-information ... OK
- checking top-level files ... OK
- checking for left-over files ... OK
- checking index information ... OK
- checking package subdirectories ... OK
- checking code files for non-ASCII characters ... OK
- checking R files for syntax errors ... OK
- checking whether the package can be loaded ... OK
- checking whether the package can be loaded with stated dependencies ... OK
- checking whether the package can be unloaded cleanly ... OK
- checking whether the namespace can be loaded with stated dependencies ... OK
- checking whether the namespace can be unloaded cleanly ... OK
- checking loading without being on the library search path ... OK
- checking whether startup messages can be suppressed ... OK
- checking use of S3 registration ... OK
- checking dependencies in R code ... OK
- checking S3 generic/method consistency ... OK
- checking replacement functions ... OK
- checking foreign function calls ... OK
- checking R code for possible problems ... [51s/62s] OK
- checking Rd files ... OK
- checking Rd metadata ... OK
- checking Rd line widths ... OK
- checking Rd cross-references ... OK
- checking for missing documentation entries ... OK
- checking for code/documentation mismatches ... OK
- checking Rd \usage sections ... OK
- checking Rd contents ... OK
- checking for unstated dependencies in examples ... OK
- checking contents of ‘data’ directory ... OK
- checking data for non-ASCII characters ... OK
- checking LazyData ... OK
- checking data for ASCII and uncompressed saves ... OK
- checking line endings in shell scripts ... OK
- checking line endings in C/C++/Fortran sources/headers ... OK
- checking line endings in Makefiles ... OK
- checking for GNU extensions in Makefiles ... OK
- checking include directives in Makefiles ... OK
- checking pragmas in C/C++ headers and code ... OK
- checking compilation flags used ... OK
- checking compiled code ... OK
- checking sizes of PDF files under ‘inst/doc’ ... OK
- checking installed files from ‘inst/doc’ ... OK
- checking files in ‘vignettes’ ... OK
- checking examples ... [31s/41s] OK
- checking for unstated dependencies in ‘tests’ ... OK
- checking tests ... [130s/163s] OK
Running ‘bugfixes.R’ [9s/11s]
Comparing ‘bugfixes.Rout’ to ‘bugfixes.Rout.save’ ... OK
Running ‘constparty.R’ [10s/13s]
Comparing ‘constparty.Rout’ to ‘constparty.Rout.save’ ... OK
Running ‘regtest-MIA.R’
Comparing ‘regtest-MIA.Rout’ to ‘regtest-MIA.Rout.save’ ... OK
Running ‘regtest-cforest.R’ [21s/26s]
Comparing ‘regtest-cforest.Rout’ to ‘regtest-cforest.Rout.save’ ... OK
Running ‘regtest-ctree.R’
Comparing ‘regtest-ctree.Rout’ to ‘regtest-ctree.Rout.save’ ... OK
Running ‘regtest-glmtree.R’ [54s/69s]
Comparing ‘regtest-glmtree.Rout’ to ‘regtest-glmtree.Rout.save’ ... OK
Running ‘regtest-honesty.R’
Running ‘regtest-lmtree.R’
Running ‘regtest-nmax.R’
Comparing ‘regtest-nmax.Rout’ to ‘regtest-nmax.Rout.save’ ... OK
Running ‘regtest-node.R’
Comparing ‘regtest-node.Rout’ to ‘regtest-node.Rout.save’ ... OK
Running ‘regtest-party-random.R’
Running ‘regtest-party.R’
Comparing ‘regtest-party.Rout’ to ‘regtest-party.Rout.save’ ...1696,1704c1696,1704
< 1 0.05014605 0.04927463 0.05077326 0.05648251 0.06781552 0.08543723 0.1090358
< 2 0.05014605 0.04927463 0.05077326 0.05648251 0.06781552 0.08543723 0.1090358
< 3 0.05014605 0.04927463 0.05077326 0.05648251 0.06781552 0.08543723 0.1090358
< 4 0.05014605 0.04927463 0.05077326 0.05648251 0.06781552 0.08543723 0.1090358
< 5 0.05014605 0.04927463 0.05077326 0.05648251 0.06781552 0.08543723 0.1090358
< 6 0.53931587 0.57642008 0.59646131 0.59404629 0.56391732 0.50569550 0.4285727
< 7 0.53931587 0.57642008 0.59646131 0.59404629 0.56391732 0.50569550 0.4285727
< 8 0.53931587 0.57642008 0.59646131 0.59404629 0.56391732 0.50569550 0.4285727
< 9 0.37052295 0.34224786 0.31061019 0.27784819 0.24583962 0.21599023 0.1891591
---
> 1 0.05020125 0.04935438 0.05087955 0.05661364 0.06796655 0.08560162 0.1092080
> 2 0.05020125 0.04935438 0.05087955 0.05661364 0.06796655 0.08560162 0.1092080
> 3 0.05020125 0.04935438 0.05087955 0.05661364 0.06796655 0.08560162 0.1092080
> 4 0.05020125 0.04935438 0.05087955 0.05661364 0.06796655 0.08560162 0.1092080
> 5 0.05020125 0.04935438 0.05087955 0.05661364 0.06796655 0.08560162 0.1092080
> 6 0.53975912 0.57687027 0.59689413 0.59443918 0.56427527 0.50605792 0.4289844
> 7 0.53975912 0.57687027 0.59689413 0.59443918 0.56427527 0.50605792 0.4289844
> 8 0.53975912 0.57687027 0.59689413 0.59443918 0.56427527 0.50605792 0.4289844
> 9 0.37075877 0.34250760 0.31088903 0.27813780 0.24612980 0.21627046 0.1894201
1706,1714c1706,1714
< 1 0.1375178 0.1692056
< 2 0.1375178 0.1692056
< 3 0.1375178 0.1692056
< 4 0.1375178 0.1692056
< 5 0.1375178 0.1692056
< 6 0.3504241 0.2903920
< 7 0.3504241 0.2903920
< 8 0.3504241 0.2903920
< 9 0.1656585 0.1453499
---
> 1 0.1376954 0.1693900
> 2 0.1376954 0.1693900
> 3 0.1376954 0.1693900
> 4 0.1376954 0.1693900
> 5 0.1376954 0.1693900
> 6 0.3508934 0.2908752
> 7 0.3508934 0.2908752
> 8 0.3508934 0.2908752
> 9 0.1658930 0.1455540
Running ‘regtest-split.R’
Comparing ‘regtest-split.Rout’ to ‘regtest-split.Rout.save’ ... OK
Running ‘regtest-weights.R’
Comparing ‘regtest-weights.Rout’ to ‘regtest-weights.Rout.save’ ... OK
- checking for unstated dependencies in vignettes ... OK
- checking package vignettes ... OK
- checking running R code from vignettes ... [18s/21s] OK
‘ctree.Rnw’ using ‘UTF-8’... [13s/15s] OK
‘partykit.Rnw’... OK
- checking re-building of vignette outputs ... [112s/143s] OK
- checking PDF version of manual ... [10s/15s] OK
- checking HTML version of manual ... OK
- checking for non-standard things in the check directory ... OK
- checking for detritus in the temp directory ... OK
- DONE
Status: OK