- using R Under development (unstable) (2024-04-23 r86473)
- using platform: x86_64-pc-linux-gnu
- R was compiled by
gcc-13 (Debian 13.2.0-23) 13.2.0
GNU Fortran (Debian 13.2.0-23) 13.2.0
- running under: Debian GNU/Linux trixie/sid
- using session charset: UTF-8
- checking for file ‘paleotree/DESCRIPTION’ ... OK
- checking extension type ... Package
- this is package ‘paleotree’ version ‘3.4.5’
- package encoding: UTF-8
- checking package namespace information ... OK
- checking package dependencies ... OK
- checking if this is a source package ... OK
- checking if there is a namespace ... OK
- checking for executable files ... OK
- checking for hidden files and directories ... OK
- checking for portable file names ... OK
- checking for sufficient/correct file permissions ... OK
- checking whether package ‘paleotree’ can be installed ... OK
See the install log for details.
- checking package directory ... OK
- checking for future file timestamps ... OK
- checking DESCRIPTION meta-information ... OK
- checking top-level files ... OK
- checking for left-over files ... OK
- checking index information ... OK
- checking package subdirectories ... OK
- checking code files for non-ASCII characters ... OK
- checking R files for syntax errors ... OK
- checking whether the package can be loaded ... [3s/4s] OK
- checking whether the package can be loaded with stated dependencies ... [3s/5s] OK
- checking whether the package can be unloaded cleanly ... [3s/4s] OK
- checking whether the namespace can be loaded with stated dependencies ... [3s/4s] OK
- checking whether the namespace can be unloaded cleanly ... [3s/4s] OK
- checking loading without being on the library search path ... [3s/4s] OK
- checking use of S3 registration ... OK
- checking dependencies in R code ... OK
- checking S3 generic/method consistency ... OK
- checking replacement functions ... OK
- checking foreign function calls ... OK
- checking R code for possible problems ... [52s/79s] OK
- checking Rd files ... [1s/2s] NOTE
checkRd: (-1) branchClasses.Rd:15: Lost braces; missing escapes or markup?
15 | \item{whichExtant}{A logical vector with length equal to number of tips in the tree. A {TRUE} value indicates
| ^
checkRd: (-1) minCharChange.Rd:134: Lost braces; missing escapes or markup?
134 | an identical name in function \code{phyDat} in package {phangorn}.
| ^
checkRd: (-1) resolveTreeChar.Rd:98: Lost braces; missing escapes or markup?
98 | an identical name in function \code{phyDat} in package {phangorn}.
| ^
checkRd: (-1) simFossilRecord.Rd:44: Lost braces
44 | since its origination time is code{D},
| ^
- checking Rd metadata ... OK
- checking Rd line widths ... OK
- checking Rd cross-references ... OK
- checking for missing documentation entries ... OK
- checking for code/documentation mismatches ... OK
- checking Rd \usage sections ... OK
- checking Rd contents ... OK
- checking for unstated dependencies in examples ... OK
- checking contents of ‘data’ directory ... OK
- checking data for non-ASCII characters ... [0s/1s] OK
- checking data for ASCII and uncompressed saves ... OK
- checking examples ... [66s/99s] OK
Examples with CPU (user + system) or elapsed time > 5s
user system elapsed
termTaxa 6.191 0.020 9.471
taxa2phylo 5.385 0.008 8.198
sampleRanges 5.143 0.071 7.854
compareTimescaling 4.587 0.128 7.403
DiversityCurves 4.410 0.045 6.636
occData2timeList 3.992 0.006 6.715
- checking for unstated dependencies in ‘tests’ ... OK
- checking tests ... [107s/164s] OK
Running ‘spelling.R’ [0s/1s]
Running ‘testthat.R’ [106s/163s]
- checking PDF version of manual ... [12s/23s] OK
- checking HTML version of manual ... [7s/15s] OK
- checking for non-standard things in the check directory ... OK
- DONE
Status: 1 NOTE