- using R Under development (unstable) (2024-04-17 r86441)
- using platform: x86_64-pc-linux-gnu
- R was compiled by
gcc-13 (Debian 13.2.0-13) 13.2.0
GNU Fortran (Debian 13.2.0-13) 13.2.0
- running under: Debian GNU/Linux trixie/sid
- using session charset: UTF-8
- checking for file ‘ggpubr/DESCRIPTION’ ... OK
- checking extension type ... Package
- this is package ‘ggpubr’ version ‘0.6.0’
- package encoding: UTF-8
- checking package namespace information ... OK
- checking package dependencies ... OK
- checking if this is a source package ... OK
- checking if there is a namespace ... OK
- checking for executable files ... OK
- checking for hidden files and directories ... OK
- checking for portable file names ... OK
- checking for sufficient/correct file permissions ... OK
- checking serialization versions ... OK
- checking whether package ‘ggpubr’ can be installed ... OK
See the install log for details.
- checking package directory ... OK
- checking for future file timestamps ... OK
- checking DESCRIPTION meta-information ... OK
- checking top-level files ... OK
- checking for left-over files ... OK
- checking index information ... OK
- checking package subdirectories ... OK
- checking code files for non-ASCII characters ... OK
- checking R files for syntax errors ... OK
- checking whether the package can be loaded ... [1s/2s] OK
- checking whether the package can be loaded with stated dependencies ... [1s/2s] OK
- checking whether the package can be unloaded cleanly ... [1s/2s] OK
- checking whether the namespace can be loaded with stated dependencies ... [1s/1s] OK
- checking whether the namespace can be unloaded cleanly ... [1s/2s] OK
- checking loading without being on the library search path ... [1s/2s] OK
- checking use of S3 registration ... OK
- checking dependencies in R code ... OK
- checking S3 generic/method consistency ... OK
- checking replacement functions ... OK
- checking foreign function calls ... OK
- checking R code for possible problems ... [27s/43s] OK
- checking Rd files ... [1s/2s] OK
- checking Rd metadata ... OK
- checking Rd line widths ... OK
- checking Rd cross-references ... OK
- checking for missing documentation entries ... OK
- checking for code/documentation mismatches ... OK
- checking Rd \usage sections ... OK
- checking Rd contents ... OK
- checking for unstated dependencies in examples ... OK
- checking contents of ‘data’ directory ... OK
- checking data for non-ASCII characters ... [0s/1s] OK
- checking LazyData ... OK
- checking data for ASCII and uncompressed saves ... OK
- checking examples ... [120s/190s] OK
Examples with CPU (user + system) or elapsed time > 5s
user system elapsed
ggtexttable 5.649 0.011 8.052
ggmaplot 5.064 0.091 8.192
ggsummarystats 4.992 0.043 7.843
ggbarplot 4.575 0.032 7.866
ggviolin 4.260 0.012 6.730
stat_anova_test 4.038 0.055 6.033
ggline 3.734 0.047 6.777
diff_express 3.581 0.114 6.253
geom_pwc 3.464 0.018 5.831
ggscatter 3.357 0.071 5.951
ggadjust_pvalue 3.251 0.056 5.374
ggboxplot 3.132 0.000 5.369
- checking for unstated dependencies in ‘tests’ ... OK
- checking tests ... [21s/31s] OK
Running ‘testthat.R’ [21s/31s]
- checking PDF version of manual ... [10s/21s] OK
- checking HTML version of manual ... [6s/14s] OK
- checking for non-standard things in the check directory ... OK
- DONE
Status: OK