- using R Under development (unstable) (2024-04-23 r86473)
- using platform: x86_64-pc-linux-gnu
- R was compiled by
gcc-13 (Debian 13.2.0-23) 13.2.0
GNU Fortran (Debian 13.2.0-23) 13.2.0
- running under: Debian GNU/Linux trixie/sid
- using session charset: UTF-8
- checking for file ‘PortfolioAnalytics/DESCRIPTION’ ... OK
- checking extension type ... Package
- this is package ‘PortfolioAnalytics’ version ‘1.1.0’
- checking package namespace information ... OK
- checking package dependencies ... OK
- checking if this is a source package ... OK
- checking if there is a namespace ... OK
- checking for executable files ... OK
- checking for hidden files and directories ... OK
- checking for portable file names ... OK
- checking for sufficient/correct file permissions ... OK
- checking serialization versions ... OK
- checking whether package ‘PortfolioAnalytics’ can be installed ... OK
See the install log for details.
- used C compiler: ‘gcc-13 (Debian 13.2.0-23) 13.2.0’
- checking package directory ... OK
- checking for future file timestamps ... OK
- checking ‘build’ directory ... OK
- checking DESCRIPTION meta-information ... OK
- checking top-level files ... OK
- checking for left-over files ... OK
- checking index information ... OK
- checking package subdirectories ... OK
- checking code files for non-ASCII characters ... OK
- checking R files for syntax errors ... OK
- checking whether the package can be loaded ... [0s/1s] OK
- checking whether the package can be loaded with stated dependencies ... [0s/1s] OK
- checking whether the package can be unloaded cleanly ... [0s/1s] OK
- checking whether the namespace can be loaded with stated dependencies ... [0s/1s] OK
- checking whether the namespace can be unloaded cleanly ... [0s/1s] OK
- checking loading without being on the library search path ... [0s/1s] OK
- checking whether startup messages can be suppressed ... [0s/1s] OK
- checking use of S3 registration ... OK
- checking dependencies in R code ... OK
- checking S3 generic/method consistency ... OK
- checking replacement functions ... OK
- checking foreign function calls ... OK
- checking R code for possible problems ... [40s/67s] OK
- checking Rd files ... [1s/2s] NOTE
checkRd: (-1) EntropyProg.Rd:28: Lost braces in \itemize; \value handles \item{}{} directly
checkRd: (-1) EntropyProg.Rd:29-30: Lost braces in \itemize; \value handles \item{}{} directly
checkRd: (-1) add.constraint.Rd:29: Lost braces in \itemize; meant \describe ?
checkRd: (-1) add.constraint.Rd:30: Lost braces in \itemize; meant \describe ?
checkRd: (-1) add.constraint.Rd:31: Lost braces in \itemize; meant \describe ?
checkRd: (-1) add.constraint.Rd:32: Lost braces in \itemize; meant \describe ?
checkRd: (-1) add.constraint.Rd:33: Lost braces in \itemize; meant \describe ?
checkRd: (-1) add.constraint.Rd:34: Lost braces in \itemize; meant \describe ?
checkRd: (-1) add.constraint.Rd:35: Lost braces in \itemize; meant \describe ?
checkRd: (-1) add.constraint.Rd:36: Lost braces in \itemize; meant \describe ?
checkRd: (-1) add.constraint.Rd:37: Lost braces in \itemize; meant \describe ?
checkRd: (-1) add.constraint.Rd:38: Lost braces in \itemize; meant \describe ?
checkRd: (-1) add.constraint.Rd:39: Lost braces in \itemize; meant \describe ?
checkRd: (-1) add.constraint.Rd:40: Lost braces in \itemize; meant \describe ?
checkRd: (-1) barplotGroupWeights.Rd:17: Lost braces in \itemize; meant \describe ?
checkRd: (-1) barplotGroupWeights.Rd:18: Lost braces in \itemize; meant \describe ?
checkRd: (-1) black.litterman.Rd:24: Lost braces in \itemize; \value handles \item{}{} directly
checkRd: (-1) black.litterman.Rd:25: Lost braces in \itemize; \value handles \item{}{} directly
checkRd: (-1) chart.GroupWeights.Rd:17: Lost braces in \itemize; meant \describe ?
checkRd: (-1) chart.GroupWeights.Rd:18: Lost braces in \itemize; meant \describe ?
checkRd: (-1) create.EfficientFrontier.Rd:39-45: Lost braces in \itemize; meant \describe ?
checkRd: (-1) create.EfficientFrontier.Rd:46-52: Lost braces in \itemize; meant \describe ?
checkRd: (-1) create.EfficientFrontier.Rd:53-57: Lost braces in \itemize; meant \describe ?
checkRd: (-1) create.EfficientFrontier.Rd:58-62: Lost braces in \itemize; meant \describe ?
checkRd: (-1) extractGroups.Rd:17: Lost braces in \itemize; \value handles \item{}{} directly
checkRd: (-1) extractGroups.Rd:18: Lost braces in \itemize; \value handles \item{}{} directly
checkRd: (-1) extractGroups.Rd:19: Lost braces in \itemize; \value handles \item{}{} directly
checkRd: (-1) fn_map.Rd:22: Lost braces in \itemize; \value handles \item{}{} directly
checkRd: (-1) fn_map.Rd:23: Lost braces in \itemize; \value handles \item{}{} directly
checkRd: (-1) fn_map.Rd:24: Lost braces in \itemize; \value handles \item{}{} directly
checkRd: (-1) fn_map.Rd:25: Lost braces in \itemize; \value handles \item{}{} directly
checkRd: (-1) fn_map.Rd:26: Lost braces in \itemize; \value handles \item{}{} directly
checkRd: (-1) meucci.moments.Rd:17: Lost braces in \itemize; \value handles \item{}{} directly
checkRd: (-1) meucci.moments.Rd:18: Lost braces in \itemize; \value handles \item{}{} directly
checkRd: (-1) optimize.portfolio.Rd:47: Lost braces in \itemize; \value handles \item{}{} directly
checkRd: (-1) optimize.portfolio.Rd:48: Lost braces in \itemize; \value handles \item{}{} directly
checkRd: (-1) optimize.portfolio.Rd:49: Lost braces in \itemize; \value handles \item{}{} directly
checkRd: (-1) optimize.portfolio.Rd:50: Lost braces in \itemize; \value handles \item{}{} directly
checkRd: (-1) optimize.portfolio.Rd:51: Lost braces in \itemize; \value handles \item{}{} directly
checkRd: (-1) optimize.portfolio.Rd:52: Lost braces in \itemize; \value handles \item{}{} directly
checkRd: (-1) optimize.portfolio.Rd:53: Lost braces in \itemize; \value handles \item{}{} directly
checkRd: (-1) optimize.portfolio.Rd:54: Lost braces in \itemize; \value handles \item{}{} directly
checkRd: (-1) optimize.portfolio.Rd:55: Lost braces in \itemize; \value handles \item{}{} directly
checkRd: (-1) optimize.portfolio.Rd:56: Lost braces in \itemize; \value handles \item{}{} directly
checkRd: (-1) optimize.portfolio.Rd:65: Lost braces in \itemize; \value handles \item{}{} directly
checkRd: (-1) optimize.portfolio.Rd:66: Lost braces in \itemize; \value handles \item{}{} directly
checkRd: (-1) optimize.portfolio.Rd:68: Lost braces in \itemize; \value handles \item{}{} directly
checkRd: (-1) optimize.portfolio.Rd:69: Lost braces in \itemize; \value handles \item{}{} directly
checkRd: (-1) optimize.portfolio.Rd:70: Lost braces in \itemize; \value handles \item{}{} directly
checkRd: (-1) optimize.portfolio.Rd:76: Lost braces in \itemize; \value handles \item{}{} directly
checkRd: (-1) optimize.portfolio.Rd:81: Lost braces in \itemize; \value handles \item{}{} directly
checkRd: (-1) optimize.portfolio.Rd:83: Lost braces in \itemize; \value handles \item{}{} directly
checkRd: (-1) optimize.portfolio.Rd:84: Lost braces in \itemize; \value handles \item{}{} directly
checkRd: (-1) optimize.portfolio.Rd:85: Lost braces in \itemize; \value handles \item{}{} directly
checkRd: (-1) optimize.portfolio.Rd:86: Lost braces in \itemize; \value handles \item{}{} directly
checkRd: (-1) optimize.portfolio.Rd:92: Lost braces in \itemize; \value handles \item{}{} directly
checkRd: (-1) optimize.portfolio.Rd:105: Lost braces in \itemize; \value handles \item{}{} directly
checkRd: (-1) optimize.portfolio.rebalancing.Rd:84-100: Lost braces in \itemize; meant \describe ?
checkRd: (-1) optimize.portfolio.rebalancing.Rd:101-104: Lost braces in \itemize; meant \describe ?
checkRd: (-1) optimize.portfolio.rebalancing.Rd:54: Lost braces in \itemize; \value handles \item{}{} directly
checkRd: (-1) optimize.portfolio.rebalancing.Rd:55: Lost braces in \itemize; \value handles \item{}{} directly
checkRd: (-1) optimize.portfolio.rebalancing.Rd:56: Lost braces in \itemize; \value handles \item{}{} directly
checkRd: (-1) optimize.portfolio.rebalancing.Rd:57-58: Lost braces in \itemize; \value handles \item{}{} directly
checkRd: (-1) optimize.portfolio.rebalancing.Rd:59-60: Lost braces in \itemize; \value handles \item{}{} directly
checkRd: (-1) portfolio.spec.Rd:32: Lost braces in \itemize; meant \describe ?
checkRd: (-1) portfolio.spec.Rd:33: Lost braces in \itemize; meant \describe ?
checkRd: (-1) portfolio.spec.Rd:34: Lost braces in \itemize; meant \describe ?
checkRd: (-1) portfolio.spec.Rd:35: Lost braces in \itemize; meant \describe ?
checkRd: (-1) portfolio.spec.Rd:36: Lost braces in \itemize; meant \describe ?
checkRd: (-1) portfolio.spec.Rd:37: Lost braces in \itemize; meant \describe ?
checkRd: (-1) random_portfolios.Rd:32-35: Lost braces in \itemize; meant \describe ?
checkRd: (-1) random_portfolios.Rd:36-43: Lost braces in \itemize; meant \describe ?
checkRd: (-1) random_portfolios.Rd:44-50: Lost braces in \itemize; meant \describe ?
checkRd: (-1) regime.portfolios.Rd:18: Lost braces in \itemize; \value handles \item{}{} directly
checkRd: (-1) regime.portfolios.Rd:19: Lost braces in \itemize; \value handles \item{}{} directly
checkRd: (-1) set.portfolio.moments.Rd:28: Lost braces in \itemize; meant \describe ?
checkRd: (-1) set.portfolio.moments.Rd:29-30: Lost braces in \itemize; meant \describe ?
checkRd: (-1) set.portfolio.moments.Rd:32-33: Lost braces in \itemize; meant \describe ?
checkRd: (-1) statistical.factor.model.Rd:18: Lost braces in \itemize; \value handles \item{}{} directly
checkRd: (-1) statistical.factor.model.Rd:19: Lost braces in \itemize; \value handles \item{}{} directly
checkRd: (-1) statistical.factor.model.Rd:20-21: Lost braces in \itemize; \value handles \item{}{} directly
- checking Rd metadata ... OK
- checking Rd line widths ... OK
- checking Rd cross-references ... OK
- checking for missing documentation entries ... OK
- checking for code/documentation mismatches ... OK
- checking Rd \usage sections ... OK
- checking Rd contents ... OK
- checking for unstated dependencies in examples ... OK
- checking contents of ‘data’ directory ... OK
- checking data for non-ASCII characters ... [0s/1s] OK
- checking data for ASCII and uncompressed saves ... OK
- checking line endings in C/C++/Fortran sources/headers ... OK
- checking pragmas in C/C++ headers and code ... OK
- checking compilation flags used ... OK
- checking compiled code ... OK
- checking sizes of PDF files under ‘inst/doc’ ... OK
- checking installed files from ‘inst/doc’ ... OK
- checking files in ‘vignettes’ ... OK
- checking examples ... [3s/5s] OK
- checking for unstated dependencies in ‘tests’ ... OK
- checking tests ... [1s/2s] OK
Running ‘run-all.R’ [1s/2s]
- checking for unstated dependencies in vignettes ... OK
- checking package vignettes ... OK
- checking re-building of vignette outputs ... [126s/215s] OK
- checking PDF version of manual ... [12s/24s] OK
- checking HTML version of manual ... [5s/13s] OK
- checking for non-standard things in the check directory ... OK
- DONE
Status: 1 NOTE