- using R Under development (unstable) (2024-04-21 r86458)
- using platform: x86_64-pc-linux-gnu
- R was compiled by
Debian clang version 18.1.0 (rc4-1)
Debian flang-new version 18.1.0 (rc4-1)
- running under: Debian GNU/Linux trixie/sid
- using session charset: UTF-8
- checking for file ‘quickpsy/DESCRIPTION’ ... OK
- checking extension type ... Package
- this is package ‘quickpsy’ version ‘0.1.5.1’
- package encoding: UTF-8
- checking package namespace information ... OK
- checking package dependencies ... OK
- checking if this is a source package ... OK
- checking if there is a namespace ... OK
- checking for executable files ... OK
- checking for hidden files and directories ... OK
- checking for portable file names ... OK
- checking for sufficient/correct file permissions ... OK
- checking serialization versions ... OK
- checking whether package ‘quickpsy’ can be installed ... OK
See the install log for details.
- checking package directory ... OK
- checking for future file timestamps ... OK
- checking DESCRIPTION meta-information ... OK
- checking top-level files ... OK
- checking for left-over files ... OK
- checking index information ... OK
- checking package subdirectories ... OK
- checking code files for non-ASCII characters ... OK
- checking R files for syntax errors ... OK
- checking whether the package can be loaded ... [2s/2s] OK
- checking whether the package can be loaded with stated dependencies ... [1s/2s] OK
- checking whether the package can be unloaded cleanly ... [1s/1s] OK
- checking whether the namespace can be loaded with stated dependencies ... [1s/1s] OK
- checking whether the namespace can be unloaded cleanly ... [2s/2s] OK
- checking loading without being on the library search path ... [2s/2s] OK
- checking use of S3 registration ... OK
- checking dependencies in R code ... OK
- checking S3 generic/method consistency ... OK
- checking replacement functions ... OK
- checking foreign function calls ... OK
- checking R code for possible problems ... [17s/21s] OK
- checking Rd files ... [1s/1s] OK
- checking Rd metadata ... OK
- checking Rd line widths ... OK
- checking Rd cross-references ... OK
- checking for missing documentation entries ... OK
- checking for code/documentation mismatches ... OK
- checking Rd \usage sections ... OK
- checking Rd contents ... OK
- checking for unstated dependencies in examples ... OK
- checking contents of ‘data’ directory ... OK
- checking data for non-ASCII characters ... [0s/0s] OK
- checking LazyData ... OK
- checking data for ASCII and uncompressed saves ... OK
- checking examples ... [164s/194s] OK
Examples with CPU (user + system) or elapsed time > 5s
user system elapsed
logliksboot 15.841 0.058 18.374
logliksbootsaturated 15.619 0.038 19.771
devianceboot 15.072 0.103 17.314
ypred 14.165 0.118 16.366
loglikssaturated 14.152 0.020 18.073
deviance 13.887 0.158 16.482
plotpar 13.190 0.004 14.625
plotthresholds 11.665 0.271 13.541
quickpsy 11.356 0.244 13.577
plotthresholds_ 10.841 0.129 13.214
plotcurves 10.162 0.016 12.912
plotcurves_ 9.567 0.000 11.245
- checking PDF version of manual ... [7s/10s] OK
- checking HTML version of manual ... [2s/4s] OK
- checking for non-standard things in the check directory ... OK
- DONE
Status: OK