- using R Under development (unstable) (2024-04-21 r86458)
- using platform: x86_64-pc-linux-gnu
- R was compiled by
Debian clang version 18.1.0 (rc4-1)
Debian flang-new version 18.1.0 (rc4-1)
- running under: Debian GNU/Linux trixie/sid
- using session charset: UTF-8
- checking for file ‘ggspectra/DESCRIPTION’ ... OK
- checking extension type ... Package
- this is package ‘ggspectra’ version ‘0.3.12’
- package encoding: UTF-8
- checking package namespace information ... OK
- checking package dependencies ... OK
- checking if this is a source package ... OK
- checking if there is a namespace ... OK
- checking for executable files ... OK
- checking for hidden files and directories ... OK
- checking for portable file names ... OK
- checking for sufficient/correct file permissions ... OK
- checking whether package ‘ggspectra’ can be installed ... OK
See the install log for details.
- checking package directory ... OK
- checking for future file timestamps ... OK
- checking ‘build’ directory ... OK
- checking DESCRIPTION meta-information ... OK
- checking top-level files ... OK
- checking for left-over files ... OK
- checking index information ... OK
- checking package subdirectories ... OK
- checking code files for non-ASCII characters ... OK
- checking R files for syntax errors ... OK
- checking whether the package can be loaded ... [2s/3s] OK
- checking whether the package can be loaded with stated dependencies ... [2s/2s] OK
- checking whether the package can be unloaded cleanly ... [1s/2s] OK
- checking whether the namespace can be loaded with stated dependencies ... [1s/2s] OK
- checking whether the namespace can be unloaded cleanly ... [2s/2s] OK
- checking loading without being on the library search path ... [2s/2s] OK
- checking use of S3 registration ... OK
- checking dependencies in R code ... OK
- checking S3 generic/method consistency ... OK
- checking replacement functions ... OK
- checking foreign function calls ... OK
- checking R code for possible problems ... [31s/39s] OK
- checking Rd files ... [2s/3s] OK
- checking Rd metadata ... OK
- checking Rd line widths ... OK
- checking Rd cross-references ... OK
- checking for missing documentation entries ... OK
- checking for code/documentation mismatches ... OK
- checking Rd \usage sections ... OK
- checking Rd contents ... OK
- checking for unstated dependencies in examples ... OK
- checking installed files from ‘inst/doc’ ... OK
- checking files in ‘vignettes’ ... OK
- checking examples ... [149s/175s] OK
Examples with CPU (user + system) or elapsed time > 5s
user system elapsed
autoplot.filter_spct 13.126 0.209 16.093
autoplot.response_spct 12.381 0.032 13.656
autoplot.source_spct 10.978 0.087 13.009
autoplot.cps_spct 9.940 0.233 13.049
autoplot.reflector_spct 8.767 0.011 9.738
stat_label_peaks 7.584 0.016 9.874
autoplot.raw_spct 6.337 0.067 8.288
sec_axis_w_number 5.768 0.020 6.503
autoplot.object_spct 5.183 0.047 6.089
multiplot 4.774 0.000 5.850
- checking for unstated dependencies in vignettes ... OK
- checking package vignettes ... OK
- checking re-building of vignette outputs ... [284s/360s] OK
- checking PDF version of manual ... [14s/18s] OK
- checking HTML version of manual ... [10s/14s] OK
- checking for non-standard things in the check directory ... OK
- DONE
Status: OK