- using R Under development (unstable) (2024-04-14 r86421)
- using platform: x86_64-pc-linux-gnu
- R was compiled by
Debian clang version 18.1.0 (rc4-1)
Debian flang-new version 18.1.0 (rc4-1)
- running under: Debian GNU/Linux trixie/sid
- using session charset: UTF-8
- checking for file ‘RKEEL/DESCRIPTION’ ... OK
- checking extension type ... Package
- this is package ‘RKEEL’ version ‘1.3.4’
- checking package namespace information ... OK
- checking package dependencies ... OK
- checking if this is a source package ... OK
- checking if there is a namespace ... OK
- checking for executable files ... OK
- checking for hidden files and directories ... OK
- checking for portable file names ... OK
- checking for sufficient/correct file permissions ... OK
- checking serialization versions ... OK
- checking whether package ‘RKEEL’ can be installed ... OK
See the install log for details.
- checking package directory ... OK
- checking for future file timestamps ... OK
- checking DESCRIPTION meta-information ... OK
- checking top-level files ... OK
- checking for left-over files ... OK
- checking index information ... OK
- checking package subdirectories ... OK
- checking code files for non-ASCII characters ... OK
- checking R files for syntax errors ... OK
- checking whether the package can be loaded ... [1s/1s] OK
- checking whether the package can be loaded with stated dependencies ... [1s/1s] OK
- checking whether the package can be unloaded cleanly ... [1s/1s] OK
- checking whether the namespace can be loaded with stated dependencies ... [1s/1s] OK
- checking whether the namespace can be unloaded cleanly ... [1s/1s] OK
- checking loading without being on the library search path ... [1s/1s] OK
- checking whether startup messages can be suppressed ... [1s/1s] OK
- checking use of S3 registration ... OK
- checking dependencies in R code ... OK
- checking S3 generic/method consistency ... OK
- checking replacement functions ... OK
- checking foreign function calls ... OK
- checking R code for possible problems ... [17s/22s] OK
- checking Rd files ... [2s/2s] OK
- checking Rd metadata ... OK
- checking Rd line widths ... OK
- checking Rd cross-references ... OK
- checking for missing documentation entries ... OK
- checking for code/documentation mismatches ... OK
- checking Rd \usage sections ... OK
- checking Rd contents ... OK
- checking for unstated dependencies in examples ... OK
- checking examples ... [393s/459s] OK
Examples with CPU (user + system) or elapsed time > 5s
user system elapsed
ANR-F 10.977 0.623 10.936
Nominal2Binary-TR 9.937 0.187 11.265
Alcalaetal-A 8.989 0.404 13.106
ABB-IEP-FS 8.744 0.387 10.129
Bayesian-D 7.619 0.404 9.364
SSGA-Integer-knn-FS 7.784 0.234 8.974
Proportional-D 7.540 0.240 8.315
CleanAttributes-TR 7.551 0.226 9.540
UniformFrequency-D 7.519 0.237 8.843
UniformWidth-D 7.446 0.243 8.656
AllPosible-MV 7.407 0.213 9.745
GANN-C 7.436 0.161 8.212
ZScore-TR 7.383 0.164 8.161
ID3-D 7.281 0.250 9.123
DecimalScaling-TR 7.334 0.181 8.025
MinMax-TR 7.352 0.148 7.544
MostCommon-MV 7.320 0.170 8.335
FPgrowth-A 7.135 0.331 8.043
KNN-MV 7.268 0.154 8.445
Apriori-A 6.988 0.377 9.078
Relief-FS 7.102 0.255 7.757
KMeans-MV 7.208 0.081 7.956
Ignore-MV 7.030 0.160 8.014
Eclat-A 6.839 0.312 7.972
ART-C 6.852 0.222 7.427
FuzzyApriori-A 6.701 0.281 7.682
ID3-C 6.670 0.191 7.332
GeneticFuzzyApriori-A 6.506 0.294 7.581
GeneticFuzzyAprioriDC-A 6.411 0.224 7.805
LVF-IEP-FS 6.401 0.186 7.038
SFS-IEP-FS 6.435 0.146 6.770
NB-C 6.121 0.208 7.300
RISE-C 5.743 0.164 6.897
CART-R 4.985 0.606 6.457
CMAR-C 4.414 0.468 5.225
JFKNN-C 4.518 0.235 5.387
BSE-C 4.511 0.241 5.378
runCV 0.633 0.012 8.602
runSequential 0.169 0.008 7.451
- checking PDF version of manual ... [13s/16s] OK
- checking HTML version of manual ... [8s/13s] OK
- checking for non-standard things in the check directory ... OK
- DONE
Status: OK